BEGIN:VCALENDAR
VERSION:2.0
PRODID:-//Florida Board of Professional Engineers - ECPv6.15.20//NONSGML v1.0//EN
CALSCALE:GREGORIAN
METHOD:PUBLISH
X-ORIGINAL-URL:https://fbpe.org
X-WR-CALDESC:Events for Florida Board of Professional Engineers
REFRESH-INTERVAL;VALUE=DURATION:PT1H
X-Robots-Tag:noindex
X-PUBLISHED-TTL:PT1H
BEGIN:VTIMEZONE
TZID:America/New_York
BEGIN:DAYLIGHT
TZOFFSETFROM:-0500
TZOFFSETTO:-0400
TZNAME:EDT
DTSTART:20220313T070000
END:DAYLIGHT
BEGIN:STANDARD
TZOFFSETFROM:-0400
TZOFFSETTO:-0500
TZNAME:EST
DTSTART:20221106T060000
END:STANDARD
BEGIN:DAYLIGHT
TZOFFSETFROM:-0500
TZOFFSETTO:-0400
TZNAME:EDT
DTSTART:20230312T070000
END:DAYLIGHT
BEGIN:STANDARD
TZOFFSETFROM:-0400
TZOFFSETTO:-0500
TZNAME:EST
DTSTART:20231105T060000
END:STANDARD
BEGIN:DAYLIGHT
TZOFFSETFROM:-0500
TZOFFSETTO:-0400
TZNAME:EDT
DTSTART:20240310T070000
END:DAYLIGHT
BEGIN:STANDARD
TZOFFSETFROM:-0400
TZOFFSETTO:-0500
TZNAME:EST
DTSTART:20241103T060000
END:STANDARD
END:VTIMEZONE
BEGIN:VEVENT
DTSTART;VALUE=DATE:20230704
DTEND;VALUE=DATE:20230705
DTSTAMP:20260424T123012
CREATED:20221213T191648Z
LAST-MODIFIED:20221213T191648Z
UID:54080-1688428800-1688515199@fbpe.org
SUMMARY:FBPE office closed: Independence Day
DESCRIPTION:
URL:https://fbpe.org/event/fbpe-office-closed-independence-day-3/
LOCATION:FL
CATEGORIES:Office Closures
END:VEVENT
BEGIN:VEVENT
DTSTART;TZID=America/New_York:20230707T083000
DTEND;TZID=America/New_York:20230707T113000
DTSTAMP:20260424T123012
CREATED:20221216T151709Z
LAST-MODIFIED:20230619T130942Z
UID:54126-1688718600-1688729400@fbpe.org
SUMMARY:FBPE Probable Cause Panel Meeting (via zoom)
DESCRIPTION:
URL:https://fbpe.org/event/fbpe-probable-cause-panel-meeting-via-zoom-16/
LOCATION:FBPE\, 2400 Mahan Drive\, Tallahassee\, FL\, 32308\, United States
CATEGORIES:FBPE
END:VEVENT
BEGIN:VEVENT
DTSTART;TZID=America/New_York:20230719T130000
DTEND;TZID=America/New_York:20230719T133000
DTSTAMP:20260424T123012
CREATED:20221216T152712Z
LAST-MODIFIED:20230619T130905Z
UID:54154-1689771600-1689773400@fbpe.org
SUMMARY:FBPE Board Meeting-CANCELLED
DESCRIPTION:
URL:https://fbpe.org/event/fbpe-board-meeting-via-zoom-10/
LOCATION:FL
CATEGORIES:FBPE
END:VEVENT
END:VCALENDAR