BEGIN:VCALENDAR
VERSION:2.0
PRODID:-//Florida Board of Professional Engineers - ECPv6.15.20//NONSGML v1.0//EN
CALSCALE:GREGORIAN
METHOD:PUBLISH
X-ORIGINAL-URL:https://fbpe.org
X-WR-CALDESC:Events for Florida Board of Professional Engineers
REFRESH-INTERVAL;VALUE=DURATION:PT1H
X-Robots-Tag:noindex
X-PUBLISHED-TTL:PT1H
BEGIN:VTIMEZONE
TZID:America/New_York
BEGIN:DAYLIGHT
TZOFFSETFROM:-0500
TZOFFSETTO:-0400
TZNAME:EDT
DTSTART:20170312T070000
END:DAYLIGHT
BEGIN:STANDARD
TZOFFSETFROM:-0400
TZOFFSETTO:-0500
TZNAME:EST
DTSTART:20171105T060000
END:STANDARD
BEGIN:DAYLIGHT
TZOFFSETFROM:-0500
TZOFFSETTO:-0400
TZNAME:EDT
DTSTART:20180311T070000
END:DAYLIGHT
BEGIN:STANDARD
TZOFFSETFROM:-0400
TZOFFSETTO:-0500
TZNAME:EST
DTSTART:20181104T060000
END:STANDARD
BEGIN:DAYLIGHT
TZOFFSETFROM:-0500
TZOFFSETTO:-0400
TZNAME:EDT
DTSTART:20190310T070000
END:DAYLIGHT
BEGIN:STANDARD
TZOFFSETFROM:-0400
TZOFFSETTO:-0500
TZNAME:EST
DTSTART:20191103T060000
END:STANDARD
END:VTIMEZONE
BEGIN:VEVENT
DTSTART;TZID=America/New_York:20181205T090000
DTEND;TZID=America/New_York:20181205T090000
DTSTAMP:20260423T112411
CREATED:20181003T152956Z
LAST-MODIFIED:20181003T152956Z
UID:44941-1544000400-1544000400@fbpe.org
SUMMARY:FEMC New Board Member Training
DESCRIPTION:
URL:https://fbpe.org/event/femc-new-board-member-training/
LOCATION:FBPE\, 2400 Mahan Drive\, Tallahassee\, FL\, 32308\, United States
CATEGORIES:FEMC
END:VEVENT
BEGIN:VEVENT
DTSTART;TZID=America/New_York:20181205T130000
DTEND;TZID=America/New_York:20181205T130000
DTSTAMP:20260423T112411
CREATED:20171018T195248Z
LAST-MODIFIED:20181003T152912Z
UID:41802-1544014800-1544014800@fbpe.org
SUMMARY:FEMC Board Meeting
DESCRIPTION:
URL:https://fbpe.org/event/femc-board-meeting-12/
LOCATION:FBPE\, 2400 Mahan Drive\, Tallahassee\, FL\, 32308\, United States
CATEGORIES:FEMC
END:VEVENT
BEGIN:VEVENT
DTSTART;TZID=America/New_York:20181206T083000
DTEND;TZID=America/New_York:20181206T083000
DTSTAMP:20260423T112411
CREATED:20171018T193828Z
LAST-MODIFIED:20181128T135044Z
UID:41793-1544085000-1544085000@fbpe.org
SUMMARY:FBPE Board Meeting
DESCRIPTION:
URL:https://fbpe.org/event/fbpe-board-meeting-28/
LOCATION:FL
CATEGORIES:FBPE
END:VEVENT
BEGIN:VEVENT
DTSTART;TZID=America/New_York:20181224T080000
DTEND;TZID=America/New_York:20181225T170000
DTSTAMP:20260423T112411
CREATED:20180213T151622Z
LAST-MODIFIED:20190517T154652Z
UID:42828-1545638400-1545757200@fbpe.org
SUMMARY:FBPE Office Closed - Christmas
DESCRIPTION:The FBPE office will be closed Monday and Tuesday\, Dec. 24 and 25\, 2018\, in observance of Christmas. The office will resume regular business hours on Wednesday\, Dec. 26\, 2018.
URL:https://fbpe.org/event/fbpe-office-closed-christmas-2018/
LOCATION:FBPE\, 2400 Mahan Drive\, Tallahassee\, FL\, 32308\, United States
CATEGORIES:Office Closures
END:VEVENT
END:VCALENDAR