BEGIN:VCALENDAR
VERSION:2.0
PRODID:-//Florida Board of Professional Engineers - ECPv6.15.20//NONSGML v1.0//EN
CALSCALE:GREGORIAN
METHOD:PUBLISH
X-ORIGINAL-URL:https://fbpe.org
X-WR-CALDESC:Events for Florida Board of Professional Engineers
REFRESH-INTERVAL;VALUE=DURATION:PT1H
X-Robots-Tag:noindex
X-PUBLISHED-TTL:PT1H
BEGIN:VTIMEZONE
TZID:America/New_York
BEGIN:DAYLIGHT
TZOFFSETFROM:-0500
TZOFFSETTO:-0400
TZNAME:EDT
DTSTART:20170312T070000
END:DAYLIGHT
BEGIN:STANDARD
TZOFFSETFROM:-0400
TZOFFSETTO:-0500
TZNAME:EST
DTSTART:20171105T060000
END:STANDARD
BEGIN:DAYLIGHT
TZOFFSETFROM:-0500
TZOFFSETTO:-0400
TZNAME:EDT
DTSTART:20180311T070000
END:DAYLIGHT
BEGIN:STANDARD
TZOFFSETFROM:-0400
TZOFFSETTO:-0500
TZNAME:EST
DTSTART:20181104T060000
END:STANDARD
BEGIN:DAYLIGHT
TZOFFSETFROM:-0500
TZOFFSETTO:-0400
TZNAME:EDT
DTSTART:20190310T070000
END:DAYLIGHT
BEGIN:STANDARD
TZOFFSETFROM:-0400
TZOFFSETTO:-0500
TZNAME:EST
DTSTART:20191103T060000
END:STANDARD
END:VTIMEZONE
BEGIN:VEVENT
DTSTART;TZID=America/New_York:20181102T100000
DTEND;TZID=America/New_York:20181102T100000
DTSTAMP:20260423T030231
CREATED:20171018T192322Z
LAST-MODIFIED:20181022T131831Z
UID:41758-1541152800-1541152800@fbpe.org
SUMMARY:FEMC Board Operations Committee Conference Call-CANCELLED
DESCRIPTION:
URL:https://fbpe.org/event/femc-board-operations-committee-conference-call-14/
LOCATION:FBPE\, 2400 Mahan Drive\, Tallahassee\, FL\, 32308\, United States
CATEGORIES:FEMC
END:VEVENT
BEGIN:VEVENT
DTSTART;TZID=America/New_York:20181102T100000
DTEND;TZID=America/New_York:20181102T100000
DTSTAMP:20260423T030231
CREATED:20181022T131756Z
LAST-MODIFIED:20181022T131756Z
UID:45053-1541152800-1541152800@fbpe.org
SUMMARY:FBPE Ratification Conference Call
DESCRIPTION:
URL:https://fbpe.org/event/fbpe-ratification-conference-call-17/
LOCATION:FBPE\, 2400 Mahan Drive\, Tallahassee\, FL\, 32308\, United States
CATEGORIES:FBPE
END:VEVENT
BEGIN:VEVENT
DTSTART;TZID=America/New_York:20181106T130000
DTEND;TZID=America/New_York:20181106T130000
DTSTAMP:20260423T030231
CREATED:20171018T192629Z
LAST-MODIFIED:20181106T162006Z
UID:41764-1541509200-1541509200@fbpe.org
SUMMARY:FBPE Rules Committee Meeting-CANCELED
DESCRIPTION:This meeting may be held by conference call.
URL:https://fbpe.org/event/fbpe-rules-committee-meeting-8/
LOCATION:FBPE\, 2400 Mahan Drive\, Tallahassee\, FL\, 32308\, United States
CATEGORIES:FBPE
END:VEVENT
BEGIN:VEVENT
DTSTART;TZID=America/New_York:20181107T083000
DTEND;TZID=America/New_York:20181107T083000
DTSTAMP:20260423T030231
CREATED:20171018T193101Z
LAST-MODIFIED:20171018T193101Z
UID:41774-1541579400-1541579400@fbpe.org
SUMMARY:FBPE Probable Cause Panel Meeting
DESCRIPTION:
URL:https://fbpe.org/event/fbpe-probable-cause-panel-meeting-15/
LOCATION:FBPE\, 2400 Mahan Drive\, Tallahassee\, FL\, 32308\, United States
CATEGORIES:FBPE
END:VEVENT
BEGIN:VEVENT
DTSTART;TZID=America/New_York:20181107T130000
DTEND;TZID=America/New_York:20181107T130000
DTSTAMP:20260423T030231
CREATED:20171018T195751Z
LAST-MODIFIED:20171018T195751Z
UID:41812-1541595600-1541595600@fbpe.org
SUMMARY:FBPE Experience Committee Application Review
DESCRIPTION:
URL:https://fbpe.org/event/fbpe-experience-committee-application-review-6/
LOCATION:FBPE\, 2400 Mahan Drive\, Tallahassee\, FL\, 32308\, United States
CATEGORIES:FBPE
END:VEVENT
BEGIN:VEVENT
DTSTART;TZID=America/New_York:20181107T150000
DTEND;TZID=America/New_York:20181107T150000
DTSTAMP:20260423T030231
CREATED:20171018T195834Z
LAST-MODIFIED:20171018T195859Z
UID:41814-1541602800-1541602800@fbpe.org
SUMMARY:FBPE Education Committee Application Review
DESCRIPTION:this review will be done by conference call
URL:https://fbpe.org/event/fbpe-education-committee-application-review-8/
LOCATION:FBPE\, 2400 Mahan Drive\, Tallahassee\, FL\, 32308\, United States
CATEGORIES:FBPE
END:VEVENT
BEGIN:VEVENT
DTSTART;TZID=America/New_York:20181112T080000
DTEND;TZID=America/New_York:20181112T170000
DTSTAMP:20260423T030231
CREATED:20180213T151202Z
LAST-MODIFIED:20190517T154838Z
UID:42824-1542009600-1542042000@fbpe.org
SUMMARY:FBPE Office Closed - Veterans Day
DESCRIPTION:The FBPE office will be closed Monday\, Nov. 12\, 2018\, in observance of Veterans Day. The office will resume regular business hours on Tuesday\, Nov. 13\, 2018.
URL:https://fbpe.org/event/fbpe-office-closed-veterans-day-2018/
LOCATION:FBPE\, 2400 Mahan Drive\, Tallahassee\, FL\, 32308\, United States
CATEGORIES:Office Closures
END:VEVENT
BEGIN:VEVENT
DTSTART;TZID=America/New_York:20181116T100000
DTEND;TZID=America/New_York:20181116T100000
DTSTAMP:20260423T030231
CREATED:20171018T200607Z
LAST-MODIFIED:20171018T200607Z
UID:41833-1542362400-1542362400@fbpe.org
SUMMARY:FBPE Ratification Conference Call
DESCRIPTION:
URL:https://fbpe.org/event/fbpe-ratification-conference-call-16/
LOCATION:FBPE\, 2400 Mahan Drive\, Tallahassee\, FL\, 32308\, United States
CATEGORIES:FBPE
END:VEVENT
BEGIN:VEVENT
DTSTART;TZID=America/New_York:20181119T100000
DTEND;TZID=America/New_York:20181119T100000
DTSTAMP:20260423T030231
CREATED:20181108T133825Z
LAST-MODIFIED:20181108T133825Z
UID:45569-1542621600-1542621600@fbpe.org
SUMMARY:FBPE Nominations Committee Conference Call
DESCRIPTION:
URL:https://fbpe.org/event/fbpe-nominations-committee-conference-call/
LOCATION:FBPE\, 2400 Mahan Drive\, Tallahassee\, FL\, 32308\, United States
CATEGORIES:FBPE
END:VEVENT
BEGIN:VEVENT
DTSTART;TZID=America/New_York:20181122T080000
DTEND;TZID=America/New_York:20181123T170000
DTSTAMP:20260423T030231
CREATED:20180213T151418Z
LAST-MODIFIED:20190517T154829Z
UID:42826-1542873600-1542992400@fbpe.org
SUMMARY:FBPE Office Closed - Thanksgiving
DESCRIPTION:The FBPE office will be closed Thursday and Friday\, Nov. 22 and 23\, 2018\, in observance of Thanksgiving. The office will resume regular business hours on Monday\, Nov. 26\, 2018.
URL:https://fbpe.org/event/fbpe-office-closed-thanksgiving-2018/
LOCATION:FL
CATEGORIES:Office Closures
END:VEVENT
END:VCALENDAR