BEGIN:VCALENDAR
VERSION:2.0
PRODID:-//Florida Board of Professional Engineers - ECPv6.15.20//NONSGML v1.0//EN
CALSCALE:GREGORIAN
METHOD:PUBLISH
X-WR-CALNAME:Florida Board of Professional Engineers
X-ORIGINAL-URL:https://fbpe.org
X-WR-CALDESC:Events for Florida Board of Professional Engineers
REFRESH-INTERVAL;VALUE=DURATION:PT1H
X-Robots-Tag:noindex
X-PUBLISHED-TTL:PT1H
BEGIN:VTIMEZONE
TZID:UTC
BEGIN:STANDARD
TZOFFSETFROM:+0000
TZOFFSETTO:+0000
TZNAME:UTC
DTSTART:20150101T000000
END:STANDARD
END:VTIMEZONE
BEGIN:VEVENT
DTSTART;VALUE=DATE:20160905
DTEND;VALUE=DATE:20160906
DTSTAMP:20260423T161148
CREATED:20160816T192237Z
LAST-MODIFIED:20160816T192535Z
UID:39005-1473033600-1473119999@fbpe.org
SUMMARY:FBPE Office Closed
DESCRIPTION:The FBPE office will be closed Monday\, September 5\, 2016\, in observance of the Labor Day holiday.  The office will resume normal office hours on Tuesday\, September 6\, 2016.
URL:https://fbpe.org/event/fbpe-office-closed/
LOCATION:FBPE\, 2400 Mahan Drive\, Tallahassee\, FL\, 32308\, United States
CATEGORIES:Office Closures
END:VEVENT
BEGIN:VEVENT
DTSTART;TZID=UTC:20160906T100000
DTEND;TZID=UTC:20160906T110000
DTSTAMP:20260423T161148
CREATED:20160422T211807Z
LAST-MODIFIED:20160816T192653Z
UID:36784-1473156000-1473159600@fbpe.org
SUMMARY:FEMC Board Operations Conference Call
DESCRIPTION:Location: FBPE Board Office\n\n\nContact: Rebecca Sammons
URL:https://fbpe.org/event/femc-board-operations-conference-call-4/
LOCATION:FL
CATEGORIES:FEMC
END:VEVENT
BEGIN:VEVENT
DTSTART;TZID=UTC:20160909T133000
DTEND;TZID=UTC:20160909T150000
DTSTAMP:20260423T161148
CREATED:20160816T192922Z
LAST-MODIFIED:20160816T192922Z
UID:39012-1473427800-1473433200@fbpe.org
SUMMARY:FBPE Structural Rules Committee Meeting
DESCRIPTION:Location FBPE Board Office – via conference call\n\n\nContact Rebecca Sammons
URL:https://fbpe.org/event/fbpe-structural-rules-committee-meeting/
LOCATION:FBPE\, 2400 Mahan Drive\, Tallahassee\, FL\, 32308\, United States
CATEGORIES:FBPE
END:VEVENT
BEGIN:VEVENT
DTSTART;TZID=UTC:20160913T083000
DTEND;TZID=UTC:20160913T093000
DTSTAMP:20260423T161148
CREATED:20160422T211928Z
LAST-MODIFIED:20160422T211928Z
UID:36785-1473755400-1473759000@fbpe.org
SUMMARY:FBPE Application Review
DESCRIPTION:Location: FBPE Board Office\n\n\nContact: Rebecca Sammons
URL:https://fbpe.org/event/fbpe-application-review-2/
LOCATION:FL
CATEGORIES:FBPE
END:VEVENT
BEGIN:VEVENT
DTSTART;TZID=UTC:20160913T130000
DTEND;TZID=UTC:20160913T140000
DTSTAMP:20260423T161148
CREATED:20160422T212355Z
LAST-MODIFIED:20160422T212355Z
UID:36786-1473771600-1473775200@fbpe.org
SUMMARY:FBPE Probable Cause Panel Meeting
DESCRIPTION:Location: FBPE Board Office\n\n\nContact: Rebecca Sammons
URL:https://fbpe.org/event/fbpe-probable-cause-panel-meeting-3/
LOCATION:FL
CATEGORIES:FBPE
END:VEVENT
BEGIN:VEVENT
DTSTART;TZID=UTC:20160914T080000
DTEND;TZID=UTC:20160917T170000
DTSTAMP:20260423T161148
CREATED:20160816T194307Z
LAST-MODIFIED:20160816T194307Z
UID:39023-1473840000-1474131600@fbpe.org
SUMMARY:CLEAR Conference
DESCRIPTION:The Council on Licensure\, Enforcement & Regulation Annual Education Conference will be held September 14-17\, 2016\, in Portland\, Oregon. \nConference content is developed by and for members of the regulatory community and focuses on four areas of inquiry: \n\nCompliance and discipline\nTesting and examination issues\nEntry to practice issues\nAdministration\, legislation and policy.\n\nAccompanying roundtable discussion groups are also offered. A popular exhibitor program typically sees 30 exhibitors provide information about their products and services to attendees. \nThe conference is preceded by CLEAR’s National Certified Investigator Training (NCIT) programs\, Executive Leadership Program for Regulators\, Board Member Training Program\, and Focus on Regulatory Governance program which are typically attended by more than 200 additional individuals.
URL:https://fbpe.org/event/clear-conference/
LOCATION:Portland Marriott Downtown Waterfront\, 1401 SW Naito Parkway \, Portland\, 97201\, United States
CATEGORIES:Industry Events
END:VEVENT
BEGIN:VEVENT
DTSTART;TZID=UTC:20160923T100000
DTEND;TZID=UTC:20160923T110000
DTSTAMP:20260423T161148
CREATED:20160422T212458Z
LAST-MODIFIED:20160422T212458Z
UID:36787-1474624800-1474628400@fbpe.org
SUMMARY:FBPE Ratification Conference Call
DESCRIPTION:Location: FBPE Board Office\n\n\nContact: Rebecca Sammons
URL:https://fbpe.org/event/fbpe-ratification-conference-call-3/
LOCATION:FL
CATEGORIES:FBPE
END:VEVENT
BEGIN:VEVENT
DTSTART;TZID=UTC:20160927T090000
DTEND;TZID=UTC:20160927T150000
DTSTAMP:20260423T161148
CREATED:20160816T210317Z
LAST-MODIFIED:20160816T210317Z
UID:39053-1474966800-1474988400@fbpe.org
SUMMARY:FAMU/FSU Fall Engineering Day
DESCRIPTION:The FAMU/FSU Fall Engineering Day will be held Tuesday\, September\, 27\, 2016 at the FAMU/FSU College of Engineering. Are you looking for a position in the engineering\, computer science\, or technical fields? This fair is for you! Network with employers and explore opportunities in these industries.  Go to http://career.fsu.edu/Students/Events/Engineering-Day for more information about this year’s Fall event.  If you would like to register as a vendor for the event\, go to http://career.fsu.edu/Employers/Attend-a-Career-Fair/Engineering-Day.
URL:https://fbpe.org/event/famufsu-fall-engineering-day/
LOCATION:FAMU/FSU College of Engineering\, 2525 Pottsdamer Road\, Tallahassee\, FL\, 32310\, United States
CATEGORIES:Collegiate
END:VEVENT
BEGIN:VEVENT
DTSTART;TZID=UTC:20160929T080000
DTEND;TZID=UTC:20161002T170000
DTSTAMP:20260423T161148
CREATED:20160817T190549Z
LAST-MODIFIED:20160817T190549Z
UID:39128-1475136000-1475427600@fbpe.org
SUMMARY:FARB Regulatory Law Seminar
DESCRIPTION:The FARB Regulatory Law Seminar will be held on September 29\, 2016 through October 2\, 2016.  Held in early October\, the RLS attracts around 125 Attorneys General representatives\, federation attorneys\, board members\, and staff for an in-depth analysis of current legal issues impacting regulatory boards. The FARB RLS is unique in its focus on jurisprudence across jurisdictions and the opportunity it provides to address Attorneys General representatives throughout the United States and Canada.
URL:https://fbpe.org/event/farb-regulatory-law-seminar/
LOCATION:FL
CATEGORIES:Industry Events
END:VEVENT
END:VCALENDAR