BEGIN:VCALENDAR
VERSION:2.0
PRODID:-//Florida Board of Professional Engineers - ECPv6.15.20//NONSGML v1.0//EN
CALSCALE:GREGORIAN
METHOD:PUBLISH
X-WR-CALNAME:Florida Board of Professional Engineers
X-ORIGINAL-URL:https://fbpe.org
X-WR-CALDESC:Events for Florida Board of Professional Engineers
REFRESH-INTERVAL;VALUE=DURATION:PT1H
X-Robots-Tag:noindex
X-PUBLISHED-TTL:PT1H
BEGIN:VTIMEZONE
TZID:UTC
BEGIN:STANDARD
TZOFFSETFROM:+0000
TZOFFSETTO:+0000
TZNAME:UTC
DTSTART:20150101T000000
END:STANDARD
END:VTIMEZONE
BEGIN:VEVENT
DTSTART;TZID=UTC:20160708T100000
DTEND;TZID=UTC:20160708T110000
DTSTAMP:20260425T225414
CREATED:20160422T182013Z
LAST-MODIFIED:20160422T182013Z
UID:36773-1467972000-1467975600@fbpe.org
SUMMARY:FEMC Board Operations Conference Call
DESCRIPTION:Location: FBPE Board Office\n\n\nContact: Rebecca Sammons
URL:https://fbpe.org/event/femc-board-operations-conference-call-3/
LOCATION:FL
CATEGORIES:FEMC
END:VEVENT
BEGIN:VEVENT
DTSTART;TZID=UTC:20160719T083000
DTEND;TZID=UTC:20160719T093000
DTSTAMP:20260425T225414
CREATED:20160422T182247Z
LAST-MODIFIED:20160422T182247Z
UID:36774-1468917000-1468920600@fbpe.org
SUMMARY:FBPE Probable Cause Panel Meeting
DESCRIPTION:Location: FBPE Board Office\n\n\nContact: Rebecca Sammons
URL:https://fbpe.org/event/fbpe-probable-cause-panel-meeting-2/
LOCATION:FL
CATEGORIES:FBPE
END:VEVENT
BEGIN:VEVENT
DTSTART;TZID=UTC:20160720T083000
DTEND;TZID=UTC:20160720T093000
DTSTAMP:20260425T225414
CREATED:20160422T211224Z
LAST-MODIFIED:20160422T211224Z
UID:36779-1469003400-1469007000@fbpe.org
SUMMARY:FBPE Rules Committee Meeting
DESCRIPTION:Location FBPE Board Office\n\n\nContact Rebecca Sammons
URL:https://fbpe.org/event/fbpe-rules-committee-meeting/
LOCATION:FL
CATEGORIES:FBPE
END:VEVENT
END:VCALENDAR