BEGIN:VCALENDAR
VERSION:2.0
PRODID:-//Florida Board of Professional Engineers - ECPv6.15.20//NONSGML v1.0//EN
CALSCALE:GREGORIAN
METHOD:PUBLISH
X-WR-CALNAME:Florida Board of Professional Engineers
X-ORIGINAL-URL:https://fbpe.org
X-WR-CALDESC:Events for Florida Board of Professional Engineers
REFRESH-INTERVAL;VALUE=DURATION:PT1H
X-Robots-Tag:noindex
X-PUBLISHED-TTL:PT1H
BEGIN:VTIMEZONE
TZID:America/New_York
BEGIN:DAYLIGHT
TZOFFSETFROM:-0500
TZOFFSETTO:-0400
TZNAME:EDT
DTSTART:20210314T070000
END:DAYLIGHT
BEGIN:STANDARD
TZOFFSETFROM:-0400
TZOFFSETTO:-0500
TZNAME:EST
DTSTART:20211107T060000
END:STANDARD
BEGIN:DAYLIGHT
TZOFFSETFROM:-0500
TZOFFSETTO:-0400
TZNAME:EDT
DTSTART:20220313T070000
END:DAYLIGHT
BEGIN:STANDARD
TZOFFSETFROM:-0400
TZOFFSETTO:-0500
TZNAME:EST
DTSTART:20221106T060000
END:STANDARD
BEGIN:DAYLIGHT
TZOFFSETFROM:-0500
TZOFFSETTO:-0400
TZNAME:EDT
DTSTART:20230312T070000
END:DAYLIGHT
BEGIN:STANDARD
TZOFFSETFROM:-0400
TZOFFSETTO:-0500
TZNAME:EST
DTSTART:20231105T060000
END:STANDARD
END:VTIMEZONE
BEGIN:VEVENT
DTSTART;VALUE=DATE:20221124
DTEND;VALUE=DATE:20221126
DTSTAMP:20260419T214847
CREATED:20211213T194836Z
LAST-MODIFIED:20211213T194836Z
UID:52350-1669248000-1669420799@fbpe.org
SUMMARY:FBPE office closed: Thanksgiving
DESCRIPTION:
URL:https://fbpe.org/event/fbpe-office-closed-thanksgiving-2/
LOCATION:FL
CATEGORIES:Office Closures
END:VEVENT
BEGIN:VEVENT
DTSTART;TZID=America/New_York:20221114T093000
DTEND;TZID=America/New_York:20221114T103000
DTSTAMP:20260419T214847
CREATED:20221018T120728Z
LAST-MODIFIED:20221018T120728Z
UID:53505-1668418200-1668421800@fbpe.org
SUMMARY:FBPE Nominations Committee Meeting (via zoom)
DESCRIPTION:
URL:https://fbpe.org/event/fbpe-nominations-committee-meeting-via-zoom/
LOCATION:FBPE\, 2400 Mahan Drive\, Tallahassee\, FL\, 32308\, United States
CATEGORIES:FBPE
END:VEVENT
BEGIN:VEVENT
DTSTART;VALUE=DATE:20221111
DTEND;VALUE=DATE:20221112
DTSTAMP:20260419T214847
CREATED:20211213T194805Z
LAST-MODIFIED:20211213T194805Z
UID:52348-1668124800-1668211199@fbpe.org
SUMMARY:FBPE office closed: Veterans Day
DESCRIPTION:
URL:https://fbpe.org/event/fbpe-office-closed-veterans-day-3/
LOCATION:FL
CATEGORIES:Office Closures
END:VEVENT
BEGIN:VEVENT
DTSTART;TZID=America/New_York:20221110T140000
DTEND;TZID=America/New_York:20221110T160000
DTSTAMP:20260419T214847
CREATED:20221018T120820Z
LAST-MODIFIED:20221109T180213Z
UID:53507-1668088800-1668096000@fbpe.org
SUMMARY:Joint FBPE/FEMC Board Meeting-CANCELLED
DESCRIPTION:
URL:https://fbpe.org/event/joint-fbpe-femc-board-meeting-via-zoom-2/
LOCATION:FBPE\, 2400 Mahan Drive\, Tallahassee\, FL\, 32308\, United States
CATEGORIES:FBPE,FEMC
END:VEVENT
BEGIN:VEVENT
DTSTART;TZID=America/New_York:20221110T090000
DTEND;TZID=America/New_York:20221110T133000
DTSTAMP:20260419T214847
CREATED:20221018T120625Z
LAST-MODIFIED:20221109T180256Z
UID:53503-1668070800-1668087000@fbpe.org
SUMMARY:FBPE Rules Committee Meeting-CANCELLED
DESCRIPTION:
URL:https://fbpe.org/event/fbpe-rules-committee-meeting-via-zoom-7/
LOCATION:FBPE\, 2400 Mahan Drive\, Tallahassee\, FL\, 32308\, United States
CATEGORIES:FBPE
END:VEVENT
BEGIN:VEVENT
DTSTART;TZID=America/New_York:20221108T140000
DTEND;TZID=America/New_York:20221108T150000
DTSTAMP:20260419T214847
CREATED:20221018T120533Z
LAST-MODIFIED:20221018T120533Z
UID:53500-1667916000-1667919600@fbpe.org
SUMMARY:FEMC Nominations Committee Meeting (via zoom)
DESCRIPTION:
URL:https://fbpe.org/event/femc-nominations-committee-meeting-via-zoom/
LOCATION:FBPE\, 2400 Mahan Drive\, Tallahassee\, FL\, 32308\, United States
CATEGORIES:FEMC
END:VEVENT
BEGIN:VEVENT
DTSTART;TZID=America/New_York:20221104T090000
DTEND;TZID=America/New_York:20221104T110000
DTSTAMP:20260419T214847
CREATED:20211213T163226Z
LAST-MODIFIED:20211213T163226Z
UID:52291-1667552400-1667559600@fbpe.org
SUMMARY:FEMC Board Operations Committee Meeting (via zoom)
DESCRIPTION:
URL:https://fbpe.org/event/femc-board-operations-committee-meeting-via-zoom-6/
LOCATION:FL
CATEGORIES:FEMC
END:VEVENT
BEGIN:VEVENT
DTSTART;TZID=America/New_York:20221102T130000
DTEND;TZID=America/New_York:20221102T150000
DTSTAMP:20260419T214847
CREATED:20211213T161738Z
LAST-MODIFIED:20211213T161738Z
UID:52267-1667394000-1667401200@fbpe.org
SUMMARY:FBPE Board Meeting/Application Review (via zoom)
DESCRIPTION:
URL:https://fbpe.org/event/fbpe-board-meeting-application-review-via-zoom-8/
LOCATION:FL
CATEGORIES:FBPE
END:VEVENT
BEGIN:VEVENT
DTSTART;TZID=America/New_York:20221102T083000
DTEND;TZID=America/New_York:20221102T113000
DTSTAMP:20260419T214847
CREATED:20211213T162811Z
LAST-MODIFIED:20211213T162811Z
UID:52279-1667377800-1667388600@fbpe.org
SUMMARY:FBPE Probable Cause Panel Meeting (via zoom)
DESCRIPTION:
URL:https://fbpe.org/event/fbpe-probable-cause-panel-meeting-via-zoom-12/
LOCATION:FL
CATEGORIES:FBPE
END:VEVENT
BEGIN:VEVENT
DTSTART;TZID=America/New_York:20221013T083000
DTEND;TZID=America/New_York:20221013T113000
DTSTAMP:20260419T214847
CREATED:20211213T163633Z
LAST-MODIFIED:20211213T163633Z
UID:52305-1665649800-1665660600@fbpe.org
SUMMARY:FBPE Board Meeting
DESCRIPTION:
URL:https://fbpe.org/event/fbpe-board-meeting-53/
LOCATION:Hyatt Place Orlando\, 5435 Forbes Place\, Orlando\, FL\, 32812\, United States
CATEGORIES:FBPE
END:VEVENT
BEGIN:VEVENT
DTSTART;TZID=America/New_York:20221012T130000
DTEND;TZID=America/New_York:20221012T170000
DTSTAMP:20260419T214847
CREATED:20211213T163604Z
LAST-MODIFIED:20211213T163604Z
UID:52303-1665579600-1665594000@fbpe.org
SUMMARY:FBPE Board Meeting
DESCRIPTION:
URL:https://fbpe.org/event/fbpe-board-meeting-52/
LOCATION:Hyatt Place Orlando\, 5435 Forbes Place\, Orlando\, FL\, 32812\, United States
CATEGORIES:FBPE
END:VEVENT
BEGIN:VEVENT
DTSTART;TZID=America/New_York:20221011T090000
DTEND;TZID=America/New_York:20221011T110000
DTSTAMP:20260419T214847
CREATED:20211213T163416Z
LAST-MODIFIED:20211213T163416Z
UID:52297-1665478800-1665486000@fbpe.org
SUMMARY:FEMC Board Meeting (via zoom)
DESCRIPTION:
URL:https://fbpe.org/event/femc-board-meeting-via-zoom-6/
LOCATION:FL
CATEGORIES:FEMC
END:VEVENT
BEGIN:VEVENT
DTSTART;TZID=America/New_York:20220914T130000
DTEND;TZID=America/New_York:20220914T150000
DTSTAMP:20260419T214847
CREATED:20211213T161601Z
LAST-MODIFIED:20211213T161601Z
UID:52265-1663160400-1663167600@fbpe.org
SUMMARY:FBPE Board Meeting/Application Review (via zoom)
DESCRIPTION:
URL:https://fbpe.org/event/fbpe-board-meeting-application-review-via-zoom-7/
LOCATION:FL
CATEGORIES:FBPE
END:VEVENT
BEGIN:VEVENT
DTSTART;TZID=America/New_York:20220914T083000
DTEND;TZID=America/New_York:20220914T113000
DTSTAMP:20260419T214847
CREATED:20211213T162237Z
LAST-MODIFIED:20211213T162237Z
UID:52277-1663144200-1663155000@fbpe.org
SUMMARY:FBPE Probable Cause Panel Meeting (via zoom)
DESCRIPTION:
URL:https://fbpe.org/event/fbpe-probable-cause-panel-meeting-via-zoom-11/
LOCATION:FL
CATEGORIES:FBPE
END:VEVENT
BEGIN:VEVENT
DTSTART;TZID=America/New_York:20220907T090000
DTEND;TZID=America/New_York:20220907T110000
DTSTAMP:20260419T214847
CREATED:20211213T163149Z
LAST-MODIFIED:20211213T163149Z
UID:52289-1662541200-1662548400@fbpe.org
SUMMARY:FEMC Board Operations Committee Meeting (via zoom)
DESCRIPTION:
URL:https://fbpe.org/event/femc-board-operations-committee-meeting-via-zoom-5/
LOCATION:FL
CATEGORIES:FEMC
END:VEVENT
BEGIN:VEVENT
DTSTART;VALUE=DATE:20220905
DTEND;VALUE=DATE:20220906
DTSTAMP:20260419T214847
CREATED:20211213T194725Z
LAST-MODIFIED:20211213T194725Z
UID:52346-1662336000-1662422399@fbpe.org
SUMMARY:FBPE office closed: Labor Day
DESCRIPTION:
URL:https://fbpe.org/event/fbpe-office-closed-labor-day-2/
LOCATION:FL
CATEGORIES:Office Closures
END:VEVENT
BEGIN:VEVENT
DTSTART;TZID=America/New_York:20220830T100000
DTEND;TZID=America/New_York:20220830T110000
DTSTAMP:20260419T214847
CREATED:20211213T163345Z
LAST-MODIFIED:20211213T163345Z
UID:52295-1661853600-1661857200@fbpe.org
SUMMARY:FEMC Board Meeting (via zoom)
DESCRIPTION:
URL:https://fbpe.org/event/femc-board-meeting-via-zoom-5/
LOCATION:FL
CATEGORIES:FEMC
END:VEVENT
BEGIN:VEVENT
DTSTART;TZID=America/New_York:20220811T083000
DTEND;TZID=America/New_York:20220811T113000
DTSTAMP:20260419T214847
CREATED:20211213T163741Z
LAST-MODIFIED:20211213T163741Z
UID:52309-1660206600-1660217400@fbpe.org
SUMMARY:FBPE Board Meeting
DESCRIPTION:
URL:https://fbpe.org/event/fbpe-board-meeting-55/
LOCATION:Hyatt Place Orlando\, 5435 Forbes Place\, Orlando\, FL\, 32812\, United States
CATEGORIES:FBPE
END:VEVENT
BEGIN:VEVENT
DTSTART;TZID=America/New_York:20220810T130000
DTEND;TZID=America/New_York:20220810T170000
DTSTAMP:20260419T214847
CREATED:20211213T163702Z
LAST-MODIFIED:20211213T163702Z
UID:52307-1660136400-1660150800@fbpe.org
SUMMARY:FBPE Board Meeting
DESCRIPTION:
URL:https://fbpe.org/event/fbpe-board-meeting-54/
LOCATION:Hyatt Place Orlando\, 5435 Forbes Place\, Orlando\, FL\, 32812\, United States
CATEGORIES:FBPE
END:VEVENT
BEGIN:VEVENT
DTSTART;TZID=America/New_York:20220804T100000
DTEND;TZID=America/New_York:20220804T110000
DTSTAMP:20260419T214847
CREATED:20220726T152843Z
LAST-MODIFIED:20220726T152843Z
UID:53158-1659607200-1659610800@fbpe.org
SUMMARY:FEMC Board Operations Committee Meeting (via zoom)
DESCRIPTION:
URL:https://fbpe.org/event/femc-board-operations-committee-meeting-via-zoom-7/
LOCATION:FBPE\, 2400 Mahan Drive\, Tallahassee\, FL\, 32308\, United States
CATEGORIES:FEMC
END:VEVENT
BEGIN:VEVENT
DTSTART;TZID=America/New_York:20220715T100000
DTEND;TZID=America/New_York:20220715T120000
DTSTAMP:20260419T214847
CREATED:20220615T134211Z
LAST-MODIFIED:20220627T164645Z
UID:52975-1657879200-1657886400@fbpe.org
SUMMARY:FBPE Civil Rules Committee Meeting (via zoom/phone)
DESCRIPTION:
URL:https://fbpe.org/event/fbpe-civil-rules-committee-meeting-via-zoom-2/
LOCATION:FL
CATEGORIES:FBPE
END:VEVENT
BEGIN:VEVENT
DTSTART;TZID=America/New_York:20220713T130000
DTEND;TZID=America/New_York:20220713T170000
DTSTAMP:20260419T214847
CREATED:20211213T162938Z
LAST-MODIFIED:20220627T164754Z
UID:52283-1657717200-1657731600@fbpe.org
SUMMARY:FBPE Rules Committee Meeting (via phone)
DESCRIPTION:
URL:https://fbpe.org/event/fbpe-rules-committee-meeting-via-zoom-5/
LOCATION:FL
CATEGORIES:FBPE
END:VEVENT
BEGIN:VEVENT
DTSTART;TZID=America/New_York:20220713T083000
DTEND;TZID=America/New_York:20220713T113000
DTSTAMP:20260419T214847
CREATED:20211213T162035Z
LAST-MODIFIED:20211213T162035Z
UID:52275-1657701000-1657711800@fbpe.org
SUMMARY:FBPE Probable Cause Panel Meeting (via zoom)
DESCRIPTION:
URL:https://fbpe.org/event/fbpe-probable-cause-panel-meeting-via-zoom-10/
LOCATION:FL
CATEGORIES:FBPE
END:VEVENT
BEGIN:VEVENT
DTSTART;VALUE=DATE:20220704
DTEND;VALUE=DATE:20220705
DTSTAMP:20260419T214847
CREATED:20211213T194658Z
LAST-MODIFIED:20211213T194658Z
UID:52344-1656892800-1656979199@fbpe.org
SUMMARY:FBPE office closed: Independence Day
DESCRIPTION:
URL:https://fbpe.org/event/fbpe-office-closed-independence-day-2/
LOCATION:FL
CATEGORIES:Office Closures
END:VEVENT
BEGIN:VEVENT
DTSTART;TZID=America/New_York:20220629T100000
DTEND;TZID=America/New_York:20220629T120000
DTSTAMP:20260419T214847
CREATED:20220615T133509Z
LAST-MODIFIED:20220627T164835Z
UID:52972-1656496800-1656504000@fbpe.org
SUMMARY:FBPE SI Rules Committee Meeting (via phone)
DESCRIPTION:
URL:https://fbpe.org/event/fbpe-si-rules-committee-meeting-via-zoom-2/
LOCATION:FL
CATEGORIES:FBPE
END:VEVENT
BEGIN:VEVENT
DTSTART;TZID=America/New_York:20220627T100000
DTEND;TZID=America/New_York:20220627T110000
DTSTAMP:20260419T214847
CREATED:20220610T145642Z
LAST-MODIFIED:20220610T145642Z
UID:52953-1656324000-1656327600@fbpe.org
SUMMARY:FBPE Board Meeting (via zoom)
DESCRIPTION:
URL:https://fbpe.org/event/fbpe-board-meeting-via-zoom-7/
LOCATION:FBPE\, 2400 Mahan Drive\, Tallahassee\, FL\, 32308\, United States
CATEGORIES:FBPE
END:VEVENT
BEGIN:VEVENT
DTSTART;TZID=America/New_York:20220609T083000
DTEND;TZID=America/New_York:20220609T113000
DTSTAMP:20260419T214847
CREATED:20211213T163852Z
LAST-MODIFIED:20211213T163852Z
UID:52313-1654763400-1654774200@fbpe.org
SUMMARY:FBPE Board Meeting
DESCRIPTION:
URL:https://fbpe.org/event/fbpe-board-meeting-57/
LOCATION:Hyatt Place Orlando\, 5435 Forbes Place\, Orlando\, FL\, 32812\, United States
CATEGORIES:FBPE
END:VEVENT
BEGIN:VEVENT
DTSTART;TZID=America/New_York:20220608T130000
DTEND;TZID=America/New_York:20220608T170000
DTSTAMP:20260419T214847
CREATED:20211213T163820Z
LAST-MODIFIED:20211213T163820Z
UID:52311-1654693200-1654707600@fbpe.org
SUMMARY:FBPE Board Meeting
DESCRIPTION:
URL:https://fbpe.org/event/fbpe-board-meeting-56/
LOCATION:Hyatt Place Orlando\, 5435 Forbes Place\, Orlando\, FL\, 32812\, United States
CATEGORIES:FBPE
END:VEVENT
BEGIN:VEVENT
DTSTART;TZID=America/New_York:20220608T100000
DTEND;TZID=America/New_York:20220608T120000
DTSTAMP:20260419T214847
CREATED:20211213T163939Z
LAST-MODIFIED:20211213T163939Z
UID:52315-1654682400-1654689600@fbpe.org
SUMMARY:FEMC Board Meeting
DESCRIPTION:
URL:https://fbpe.org/event/femc-board-meeting-24/
LOCATION:Hyatt Place Orlando\, 5435 Forbes Place\, Orlando\, FL\, 32812\, United States
CATEGORIES:FEMC
END:VEVENT
BEGIN:VEVENT
DTSTART;TZID=America/New_York:20220603T090000
DTEND;TZID=America/New_York:20220603T110000
DTSTAMP:20260419T214847
CREATED:20211213T163113Z
LAST-MODIFIED:20220524T115603Z
UID:52287-1654246800-1654254000@fbpe.org
SUMMARY:FEMC Board Operations Committee Meeting-CANCELLED
DESCRIPTION:
URL:https://fbpe.org/event/femc-board-operations-committee-meeting-via-zoom-3/
LOCATION:FL
CATEGORIES:FEMC
END:VEVENT
END:VCALENDAR