BEGIN:VCALENDAR
VERSION:2.0
PRODID:-//Florida Board of Professional Engineers - ECPv6.15.20//NONSGML v1.0//EN
CALSCALE:GREGORIAN
METHOD:PUBLISH
X-WR-CALNAME:Florida Board of Professional Engineers
X-ORIGINAL-URL:https://fbpe.org
X-WR-CALDESC:Events for Florida Board of Professional Engineers
REFRESH-INTERVAL;VALUE=DURATION:PT1H
X-Robots-Tag:noindex
X-PUBLISHED-TTL:PT1H
BEGIN:VTIMEZONE
TZID:America/New_York
BEGIN:DAYLIGHT
TZOFFSETFROM:-0500
TZOFFSETTO:-0400
TZNAME:EDT
DTSTART:20190310T070000
END:DAYLIGHT
BEGIN:STANDARD
TZOFFSETFROM:-0400
TZOFFSETTO:-0500
TZNAME:EST
DTSTART:20191103T060000
END:STANDARD
BEGIN:DAYLIGHT
TZOFFSETFROM:-0500
TZOFFSETTO:-0400
TZNAME:EDT
DTSTART:20200308T070000
END:DAYLIGHT
BEGIN:STANDARD
TZOFFSETFROM:-0400
TZOFFSETTO:-0500
TZNAME:EST
DTSTART:20201101T060000
END:STANDARD
BEGIN:DAYLIGHT
TZOFFSETFROM:-0500
TZOFFSETTO:-0400
TZNAME:EDT
DTSTART:20210314T070000
END:DAYLIGHT
BEGIN:STANDARD
TZOFFSETFROM:-0400
TZOFFSETTO:-0500
TZNAME:EST
DTSTART:20211107T060000
END:STANDARD
BEGIN:DAYLIGHT
TZOFFSETFROM:-0500
TZOFFSETTO:-0400
TZNAME:EDT
DTSTART:20220313T070000
END:DAYLIGHT
BEGIN:STANDARD
TZOFFSETFROM:-0400
TZOFFSETTO:-0500
TZNAME:EST
DTSTART:20221106T060000
END:STANDARD
END:VTIMEZONE
BEGIN:VEVENT
DTSTART;TZID=America/New_York:20210622T093000
DTEND;TZID=America/New_York:20210622T113000
DTSTAMP:20260425T112302
CREATED:20210514T135445Z
LAST-MODIFIED:20210514T135445Z
UID:51371-1624354200-1624361400@fbpe.org
SUMMARY:FEMC Finance Committee Meeting (via zoom)
DESCRIPTION:
URL:https://fbpe.org/event/femc-finance-committee-meeting-via-zoom-2/
CATEGORIES:FEMC
END:VEVENT
BEGIN:VEVENT
DTSTART;TZID=America/New_York:20210610T110000
DTEND;TZID=America/New_York:20210610T170000
DTSTAMP:20260425T112302
CREATED:20210514T135351Z
LAST-MODIFIED:20210514T135351Z
UID:51369-1623322800-1623344400@fbpe.org
SUMMARY:FBPE Rules Committee Meeting(via zoom)
DESCRIPTION:at the conclusion of the FBPE Board Meeting on June 10\, 2021
URL:https://fbpe.org/event/fbpe-rules-committee-meetingvia-zoom/
CATEGORIES:FBPE
END:VEVENT
BEGIN:VEVENT
DTSTART;TZID=America/New_York:20210610T083000
DTEND;TZID=America/New_York:20210610T120000
DTSTAMP:20260425T112302
CREATED:20201110T165011Z
LAST-MODIFIED:20201110T165011Z
UID:50821-1623313800-1623326400@fbpe.org
SUMMARY:FBPE Board Meeting (via zoom)
DESCRIPTION:
URL:https://fbpe.org/event/fbpe-board-meeting-via-zoom/
CATEGORIES:FBPE
END:VEVENT
BEGIN:VEVENT
DTSTART;TZID=America/New_York:20210609T130000
DTEND;TZID=America/New_York:20210609T170000
DTSTAMP:20260425T112302
CREATED:20201110T165040Z
LAST-MODIFIED:20201110T165040Z
UID:50823-1623243600-1623258000@fbpe.org
SUMMARY:FBPE Board Meeting (via zoom)
DESCRIPTION:
URL:https://fbpe.org/event/fbpe-board-meeting-via-zoom-2/
CATEGORIES:FBPE
END:VEVENT
BEGIN:VEVENT
DTSTART;TZID=America/New_York:20210609T090000
DTEND;TZID=America/New_York:20210609T120000
DTSTAMP:20260425T112302
CREATED:20201110T164304Z
LAST-MODIFIED:20210514T135959Z
UID:50803-1623229200-1623240000@fbpe.org
SUMMARY:FEMC Board Meeting (via zoom)
DESCRIPTION:
URL:https://fbpe.org/event/femc-board-meeting-via-zoom-2/
CATEGORIES:FEMC
END:VEVENT
BEGIN:VEVENT
DTSTART;TZID=America/New_York:20210521T090000
DTEND;TZID=America/New_York:20210521T103000
DTSTAMP:20260425T112302
CREATED:20201110T164052Z
LAST-MODIFIED:20210514T135116Z
UID:50797-1621587600-1621593000@fbpe.org
SUMMARY:FEMC Board Operations Committee Meeting (via zoom)
DESCRIPTION:
URL:https://fbpe.org/event/femc-board-operations-committee-meeting-via-zoom-4/
CATEGORIES:FEMC
END:VEVENT
BEGIN:VEVENT
DTSTART;TZID=America/New_York:20210512T130000
DTEND;TZID=America/New_York:20210512T170000
DTSTAMP:20260425T112302
CREATED:20201110T163524Z
LAST-MODIFIED:20201110T163524Z
UID:50783-1620824400-1620838800@fbpe.org
SUMMARY:FBPE Board Meeting/Application Review (via zoom)
DESCRIPTION:
URL:https://fbpe.org/event/fbpe-board-meeting-application-review-via-zoom-3/
CATEGORIES:FBPE
END:VEVENT
BEGIN:VEVENT
DTSTART;TZID=America/New_York:20210512T083000
DTEND;TZID=America/New_York:20210512T120000
DTSTAMP:20260425T112302
CREATED:20201110T163003Z
LAST-MODIFIED:20201110T163003Z
UID:50771-1620808200-1620820800@fbpe.org
SUMMARY:FBPE Probable Cause Panel Meeting (via zoom)
DESCRIPTION:
URL:https://fbpe.org/event/fbpe-probable-cause-panel-meeting-via-zoom-3/
CATEGORIES:FBPE
END:VEVENT
BEGIN:VEVENT
DTSTART;TZID=America/New_York:20210408T083000
DTEND;TZID=America/New_York:20210408T120000
DTSTAMP:20260425T112302
CREATED:20201110T165111Z
LAST-MODIFIED:20201110T165111Z
UID:50825-1617870600-1617883200@fbpe.org
SUMMARY:FBPE Board Meeting (via zoom)
DESCRIPTION:
URL:https://fbpe.org/event/fbpe-board-meeting-via-zoom-3/
CATEGORIES:FBPE
END:VEVENT
BEGIN:VEVENT
DTSTART;TZID=America/New_York:20210407T130000
DTEND;TZID=America/New_York:20210407T170000
DTSTAMP:20260425T112302
CREATED:20201110T165146Z
LAST-MODIFIED:20201110T165146Z
UID:50827-1617800400-1617814800@fbpe.org
SUMMARY:FBPE Board Meeting (via zoom)
DESCRIPTION:
URL:https://fbpe.org/event/fbpe-board-meeting-via-zoom-4/
CATEGORIES:FBPE
END:VEVENT
BEGIN:VEVENT
DTSTART;TZID=America/New_York:20210407T100000
DTEND;TZID=America/New_York:20210407T120000
DTSTAMP:20260425T112302
CREATED:20201110T164228Z
LAST-MODIFIED:20201110T164228Z
UID:50801-1617789600-1617796800@fbpe.org
SUMMARY:FEMC Board Meeting (via zoom)
DESCRIPTION:
URL:https://fbpe.org/event/femc-board-meeting-via-zoom/
CATEGORIES:FEMC
END:VEVENT
BEGIN:VEVENT
DTSTART;TZID=America/New_York:20210323T130000
DTEND;TZID=America/New_York:20210323T170000
DTSTAMP:20260425T112302
CREATED:20210302T152132Z
LAST-MODIFIED:20210302T152132Z
UID:51125-1616504400-1616518800@fbpe.org
SUMMARY:FEMC/FBPE Board Member Training
DESCRIPTION:
URL:https://fbpe.org/event/femc-fbpe-board-member-training/
CATEGORIES:FBPE,FEMC
END:VEVENT
BEGIN:VEVENT
DTSTART;TZID=America/New_York:20210310T140000
DTEND;TZID=America/New_York:20210310T170000
DTSTAMP:20260425T112302
CREATED:20201110T164132Z
LAST-MODIFIED:20210302T151930Z
UID:50799-1615384800-1615395600@fbpe.org
SUMMARY:FBPE Rules Committee Meeting (via zoom)
DESCRIPTION:
URL:https://fbpe.org/event/fbpe-rules-committee-meeting-via-zoom-2/
CATEGORIES:FBPE
END:VEVENT
BEGIN:VEVENT
DTSTART;TZID=America/New_York:20210310T083000
DTEND;TZID=America/New_York:20210310T120000
DTSTAMP:20260425T112302
CREATED:20201110T162924Z
LAST-MODIFIED:20201110T162924Z
UID:50769-1615365000-1615377600@fbpe.org
SUMMARY:FBPE Probable Cause Panel Meeting (via zoom)
DESCRIPTION:
URL:https://fbpe.org/event/fbpe-probable-cause-panel-meeting-via-zoom-2/
CATEGORIES:FBPE
END:VEVENT
BEGIN:VEVENT
DTSTART;TZID=America/New_York:20210218T083000
DTEND;TZID=America/New_York:20210218T120000
DTSTAMP:20260425T112302
CREATED:20201110T165224Z
LAST-MODIFIED:20201110T165224Z
UID:50829-1613637000-1613649600@fbpe.org
SUMMARY:FBPE Board Meeting (via zoom)
DESCRIPTION:
URL:https://fbpe.org/event/fbpe-board-meeting-via-zoom-5/
CATEGORIES:FBPE
END:VEVENT
BEGIN:VEVENT
DTSTART;TZID=America/New_York:20210217T130000
DTEND;TZID=America/New_York:20210217T170000
DTSTAMP:20260425T112302
CREATED:20201110T165248Z
LAST-MODIFIED:20201110T165248Z
UID:50831-1613566800-1613581200@fbpe.org
SUMMARY:FBPE Board Meeting (via zoom)
DESCRIPTION:
URL:https://fbpe.org/event/fbpe-board-meeting-via-zoom-6/
CATEGORIES:FBPE
END:VEVENT
BEGIN:VEVENT
DTSTART;TZID=America/New_York:20210129T130000
DTEND;TZID=America/New_York:20210129T160000
DTSTAMP:20260425T112302
CREATED:20201222T130240Z
LAST-MODIFIED:20210120T175419Z
UID:50932-1611925200-1611936000@fbpe.org
SUMMARY:FBPE Multidimensional Electronic Task Force Meeting-CANCELLED
DESCRIPTION:
URL:https://fbpe.org/event/fbpe-multidimensional-electronic-task-force-meeting-via-zoom-4/
CATEGORIES:FBPE
END:VEVENT
BEGIN:VEVENT
DTSTART;TZID=America/New_York:20210127T100000
DTEND;TZID=America/New_York:20210127T130000
DTSTAMP:20260425T112302
CREATED:20201222T130332Z
LAST-MODIFIED:20210120T175343Z
UID:50934-1611741600-1611752400@fbpe.org
SUMMARY:FBPE Rules Committee Meeting-cancelled
DESCRIPTION:
URL:https://fbpe.org/event/fbpe-rules-committee-meeting-via-zoom-3/
CATEGORIES:FBPE
END:VEVENT
BEGIN:VEVENT
DTSTART;TZID=America/New_York:20210122T130000
DTEND;TZID=America/New_York:20210122T160000
DTSTAMP:20260425T112302
CREATED:20201222T130131Z
LAST-MODIFIED:20201222T130131Z
UID:50930-1611320400-1611331200@fbpe.org
SUMMARY:FBPE Multidimensional Electronic Task Force Meeting (via zoom)
DESCRIPTION:
URL:https://fbpe.org/event/fbpe-multidimensional-electronic-task-force-meeting-via-zoom-3/
CATEGORIES:FBPE
END:VEVENT
BEGIN:VEVENT
DTSTART;TZID=America/New_York:20210120T083000
DTEND;TZID=America/New_York:20210120T120000
DTSTAMP:20260425T112302
CREATED:20201110T162837Z
LAST-MODIFIED:20201222T130428Z
UID:50767-1611131400-1611144000@fbpe.org
SUMMARY:FBPE Probable Cause Panel Meeting (via zoom)
DESCRIPTION:
URL:https://fbpe.org/event/fbpe-probable-cause-panel-meeting-via-zoom/
CATEGORIES:FBPE
END:VEVENT
BEGIN:VEVENT
DTSTART;TZID=America/New_York:20210118T080000
DTEND;TZID=America/New_York:20210118T170000
DTSTAMP:20260425T112302
CREATED:20191218T210827Z
LAST-MODIFIED:20191218T210827Z
UID:48993-1610956800-1610989200@fbpe.org
SUMMARY:FBPE Office Closed - Martin Luther King Jr. Day
DESCRIPTION:The FBPE office will be closed Monday\, Jan. 18\, 2021\, in observance of Martin Luther King Jr. Day. The office will resume regular office hours on Tuesday\, Jan. 19\, 2021.
URL:https://fbpe.org/event/fbpe-office-closed-martin-luther-king-jr-day-2/
LOCATION:FBPE\, 2400 Mahan Drive\, Tallahassee\, FL\, 32308\, United States
CATEGORIES:Office Closures
END:VEVENT
BEGIN:VEVENT
DTSTART;TZID=America/New_York:20210115T130000
DTEND;TZID=America/New_York:20210115T160000
DTSTAMP:20260425T112302
CREATED:20201222T130042Z
LAST-MODIFIED:20201222T130042Z
UID:50928-1610715600-1610726400@fbpe.org
SUMMARY:FBPE Multidimensional Electronic Task Force Meeting (via zoom)
DESCRIPTION:
URL:https://fbpe.org/event/fbpe-multidimensional-electronic-task-force-meeting-via-zoom-2/
CATEGORIES:FBPE
END:VEVENT
BEGIN:VEVENT
DTSTART;TZID=America/New_York:20210113T130000
DTEND;TZID=America/New_York:20210113T170000
DTSTAMP:20260425T112302
CREATED:20201110T163401Z
LAST-MODIFIED:20201110T163401Z
UID:50779-1610542800-1610557200@fbpe.org
SUMMARY:FBPE Board Meeting/Application Review (via zoom)
DESCRIPTION:
URL:https://fbpe.org/event/fbpe-board-meeting-application-review-via-zoom/
CATEGORIES:FBPE
END:VEVENT
BEGIN:VEVENT
DTSTART;TZID=America/New_York:20201231T080000
DTEND;TZID=America/New_York:20210101T170000
DTSTAMP:20260425T112302
CREATED:20191218T210715Z
LAST-MODIFIED:20191218T210715Z
UID:48991-1609401600-1609520400@fbpe.org
SUMMARY:FBPE Office Closed - New Year's Day
DESCRIPTION:The FBPE office will be closed Thursday and Friday\, Dec. 31\, 2020\, and Jan. 1\, 2021\, in observance of New Year’s Day. The office will resume regular office hours on Monday\, Jan. 4\, 2021.
URL:https://fbpe.org/event/fbpe-office-closed-new-years-day/
LOCATION:FBPE\, 2400 Mahan Drive\, Tallahassee\, FL\, 32308\, United States
CATEGORIES:Office Closures
END:VEVENT
BEGIN:VEVENT
DTSTART;TZID=America/New_York:20201224T080000
DTEND;TZID=America/New_York:20201225T170000
DTSTAMP:20260425T112302
CREATED:20191218T204808Z
LAST-MODIFIED:20191218T210519Z
UID:48989-1608796800-1608915600@fbpe.org
SUMMARY:FBPE Office Closed - Christmas
DESCRIPTION:The FBPE office will be closed Thursday and Friday\, Dec. 24 and 25\, 2020\, in observance of Christmas. The office will resume regular business hours on Monday\, Dec. 28\, 2020.
URL:https://fbpe.org/event/fbpe-office-closed-christmas/
LOCATION:FBPE\, 2400 Mahan Drive\, Tallahassee\, FL\, 32308\, United States
CATEGORIES:Office Closures
END:VEVENT
BEGIN:VEVENT
DTSTART;TZID=America/New_York:20201210T083000
DTEND;TZID=America/New_York:20201210T170000
DTSTAMP:20260425T112302
CREATED:20191117T163819Z
LAST-MODIFIED:20201012T122854Z
UID:48747-1607589000-1607619600@fbpe.org
SUMMARY:FBPE Board Meeting (via zoom)
DESCRIPTION:
URL:https://fbpe.org/event/fbpe-board-meeting-45/
CATEGORIES:FBPE
END:VEVENT
BEGIN:VEVENT
DTSTART;TZID=America/New_York:20201209T130000
DTEND;TZID=America/New_York:20201209T170000
DTSTAMP:20260425T112302
CREATED:20201012T123030Z
LAST-MODIFIED:20201012T123030Z
UID:50593-1607518800-1607533200@fbpe.org
SUMMARY:FBPE Rules Committee Meeting (via zoom)
DESCRIPTION:
URL:https://fbpe.org/event/fbpe-rules-committee-meeting-via-zoom/
CATEGORIES:FBPE
END:VEVENT
BEGIN:VEVENT
DTSTART;TZID=America/New_York:20201209T090000
DTEND;TZID=America/New_York:20201209T123000
DTSTAMP:20260425T112302
CREATED:20191117T164151Z
LAST-MODIFIED:20201012T122920Z
UID:48757-1607504400-1607517000@fbpe.org
SUMMARY:FEMC Board Meeting (via zoom)
DESCRIPTION:
URL:https://fbpe.org/event/femc-board-meeting-20/
CATEGORIES:FEMC
END:VEVENT
BEGIN:VEVENT
DTSTART;TZID=America/New_York:20201126T080000
DTEND;TZID=America/New_York:20201127T170000
DTSTAMP:20260425T112302
CREATED:20191218T204639Z
LAST-MODIFIED:20191218T210450Z
UID:48987-1606377600-1606496400@fbpe.org
SUMMARY:FBPE Office Closed - Thanksgiving
DESCRIPTION:The FBPE office will be closed Thursday and Friday\, Nov. 26 and 27\, 2020\, in observance of Thanksgiving. The office will resume regular business hours on Monday\, Nov. 30\, 2020.
URL:https://fbpe.org/event/fbpe-office-closed-thanksgiving/
LOCATION:FBPE\, 2400 Mahan Drive\, Tallahassee\, FL\, 32308\, United States
CATEGORIES:Office Closures
END:VEVENT
BEGIN:VEVENT
DTSTART;TZID=America/New_York:20201123T110000
DTEND;TZID=America/New_York:20201123T120000
DTSTAMP:20260425T112302
CREATED:20201105T170132Z
LAST-MODIFIED:20201105T170132Z
UID:50755-1606129200-1606132800@fbpe.org
SUMMARY:FBPE Nominations Committee Meeting (via video conference)
DESCRIPTION:
URL:https://fbpe.org/event/fbpe-nominations-committee-meeting-via-video-conference/
CATEGORIES:FBPE
END:VEVENT
END:VCALENDAR