BEGIN:VCALENDAR
VERSION:2.0
PRODID:-//Florida Board of Professional Engineers - ECPv6.15.20//NONSGML v1.0//EN
CALSCALE:GREGORIAN
METHOD:PUBLISH
X-WR-CALNAME:Florida Board of Professional Engineers
X-ORIGINAL-URL:https://fbpe.org
X-WR-CALDESC:Events for Florida Board of Professional Engineers
REFRESH-INTERVAL;VALUE=DURATION:PT1H
X-Robots-Tag:noindex
X-PUBLISHED-TTL:PT1H
BEGIN:VTIMEZONE
TZID:America/New_York
BEGIN:DAYLIGHT
TZOFFSETFROM:-0500
TZOFFSETTO:-0400
TZNAME:EDT
DTSTART:20190310T070000
END:DAYLIGHT
BEGIN:STANDARD
TZOFFSETFROM:-0400
TZOFFSETTO:-0500
TZNAME:EST
DTSTART:20191103T060000
END:STANDARD
BEGIN:DAYLIGHT
TZOFFSETFROM:-0500
TZOFFSETTO:-0400
TZNAME:EDT
DTSTART:20200308T070000
END:DAYLIGHT
BEGIN:STANDARD
TZOFFSETFROM:-0400
TZOFFSETTO:-0500
TZNAME:EST
DTSTART:20201101T060000
END:STANDARD
BEGIN:DAYLIGHT
TZOFFSETFROM:-0500
TZOFFSETTO:-0400
TZNAME:EDT
DTSTART:20210314T070000
END:DAYLIGHT
BEGIN:STANDARD
TZOFFSETFROM:-0400
TZOFFSETTO:-0500
TZNAME:EST
DTSTART:20211107T060000
END:STANDARD
BEGIN:DAYLIGHT
TZOFFSETFROM:-0500
TZOFFSETTO:-0400
TZNAME:EDT
DTSTART:20220313T070000
END:DAYLIGHT
BEGIN:STANDARD
TZOFFSETFROM:-0400
TZOFFSETTO:-0500
TZNAME:EST
DTSTART:20221106T060000
END:STANDARD
BEGIN:DAYLIGHT
TZOFFSETFROM:-0500
TZOFFSETTO:-0400
TZNAME:EDT
DTSTART:20230312T070000
END:DAYLIGHT
BEGIN:STANDARD
TZOFFSETFROM:-0400
TZOFFSETTO:-0500
TZNAME:EST
DTSTART:20231105T060000
END:STANDARD
BEGIN:DAYLIGHT
TZOFFSETFROM:-0500
TZOFFSETTO:-0400
TZNAME:EDT
DTSTART:20240310T070000
END:DAYLIGHT
BEGIN:STANDARD
TZOFFSETFROM:-0400
TZOFFSETTO:-0500
TZNAME:EST
DTSTART:20241103T060000
END:STANDARD
BEGIN:DAYLIGHT
TZOFFSETFROM:-0500
TZOFFSETTO:-0400
TZNAME:EDT
DTSTART:20250309T070000
END:DAYLIGHT
BEGIN:STANDARD
TZOFFSETFROM:-0400
TZOFFSETTO:-0500
TZNAME:EST
DTSTART:20251102T060000
END:STANDARD
END:VTIMEZONE
BEGIN:VEVENT
DTSTART;VALUE=DATE:20240902
DTEND;VALUE=DATE:20240903
DTSTAMP:20260419T223530
CREATED:20240119T165235Z
LAST-MODIFIED:20240119T165235Z
UID:55698-1725235200-1725321599@fbpe.org
SUMMARY:FBPE office closed: Labor Day
DESCRIPTION:
URL:https://fbpe.org/event/fbpe-office-closed-labor-day-4/
CATEGORIES:Office Closures
END:VEVENT
BEGIN:VEVENT
DTSTART;VALUE=DATE:20240704
DTEND;VALUE=DATE:20240705
DTSTAMP:20260419T223530
CREATED:20240119T165152Z
LAST-MODIFIED:20240119T165255Z
UID:55696-1720051200-1720137599@fbpe.org
SUMMARY:FBPE office closed: Independence Day
DESCRIPTION:
URL:https://fbpe.org/event/fbpe-office-closed-independence-day-4/
CATEGORIES:Office Closures
END:VEVENT
BEGIN:VEVENT
DTSTART;VALUE=DATE:20240527
DTEND;VALUE=DATE:20240528
DTSTAMP:20260419T223530
CREATED:20240119T165102Z
LAST-MODIFIED:20240119T165250Z
UID:55694-1716768000-1716854399@fbpe.org
SUMMARY:FBPE office closed: Memorial Day
DESCRIPTION:
URL:https://fbpe.org/event/fbpe-office-closed-memorial-day-4/
CATEGORIES:Office Closures
END:VEVENT
BEGIN:VEVENT
DTSTART;VALUE=DATE:20240115
DTEND;VALUE=DATE:20240116
DTSTAMP:20260419T223530
CREATED:20240103T212838Z
LAST-MODIFIED:20240103T212838Z
UID:55643-1705276800-1705363199@fbpe.org
SUMMARY:FBPE office closed: Martin Luther King Jr. Day
DESCRIPTION:
URL:https://fbpe.org/event/fbpe-office-closed-martin-luther-king-jr-day-5/
CATEGORIES:Office Closures
END:VEVENT
BEGIN:VEVENT
DTSTART;VALUE=DATE:20231229
DTEND;VALUE=DATE:20240103
DTSTAMP:20260419T223530
CREATED:20221213T192017Z
LAST-MODIFIED:20231221T210324Z
UID:54090-1703808000-1704239999@fbpe.org
SUMMARY:FBPE office closed: New Years
DESCRIPTION:
URL:https://fbpe.org/event/fbpe-office-closed-new-years-3/
CATEGORIES:Office Closures
END:VEVENT
BEGIN:VEVENT
DTSTART;VALUE=DATE:20231222
DTEND;VALUE=DATE:20231227
DTSTAMP:20260419T223530
CREATED:20221213T191919Z
LAST-MODIFIED:20231221T210254Z
UID:54088-1703203200-1703635199@fbpe.org
SUMMARY:FBPE office closed: Christmas
DESCRIPTION:
URL:https://fbpe.org/event/fbpe-office-closed-christmas-3/
CATEGORIES:Office Closures
END:VEVENT
BEGIN:VEVENT
DTSTART;VALUE=DATE:20231122
DTEND;VALUE=DATE:20231125
DTSTAMP:20260419T223530
CREATED:20221213T191836Z
LAST-MODIFIED:20231120T200415Z
UID:54086-1700611200-1700870399@fbpe.org
SUMMARY:FBPE office closed: Thanksgiving
DESCRIPTION:
URL:https://fbpe.org/event/fbpe-office-closed-thanksgiving-3/
CATEGORIES:Office Closures
END:VEVENT
BEGIN:VEVENT
DTSTART;VALUE=DATE:20231110
DTEND;VALUE=DATE:20231111
DTSTAMP:20260419T223530
CREATED:20221213T191805Z
LAST-MODIFIED:20221213T191805Z
UID:54084-1699574400-1699660799@fbpe.org
SUMMARY:FBPE office closed: Veteran's Day
DESCRIPTION:
URL:https://fbpe.org/event/fbpe-office-closed-veterans-day-4/
CATEGORIES:Office Closures
END:VEVENT
BEGIN:VEVENT
DTSTART;VALUE=DATE:20230904
DTEND;VALUE=DATE:20230905
DTSTAMP:20260419T223530
CREATED:20221213T191724Z
LAST-MODIFIED:20221213T191724Z
UID:54082-1693785600-1693871999@fbpe.org
SUMMARY:FBPE office closed: Labor Day
DESCRIPTION:
URL:https://fbpe.org/event/fbpe-office-closed-labor-day-3/
CATEGORIES:Office Closures
END:VEVENT
BEGIN:VEVENT
DTSTART;VALUE=DATE:20230704
DTEND;VALUE=DATE:20230705
DTSTAMP:20260419T223530
CREATED:20221213T191648Z
LAST-MODIFIED:20221213T191648Z
UID:54080-1688428800-1688515199@fbpe.org
SUMMARY:FBPE office closed: Independence Day
DESCRIPTION:
URL:https://fbpe.org/event/fbpe-office-closed-independence-day-3/
CATEGORIES:Office Closures
END:VEVENT
BEGIN:VEVENT
DTSTART;VALUE=DATE:20230529
DTEND;VALUE=DATE:20230530
DTSTAMP:20260419T223530
CREATED:20221213T191600Z
LAST-MODIFIED:20221213T191600Z
UID:54078-1685318400-1685404799@fbpe.org
SUMMARY:FBPE office closed: Memorial Day
DESCRIPTION:
URL:https://fbpe.org/event/fbpe-office-closed-memorial-day-3/
CATEGORIES:Office Closures
END:VEVENT
BEGIN:VEVENT
DTSTART;VALUE=DATE:20230116
DTEND;VALUE=DATE:20230117
DTSTAMP:20260419T223530
CREATED:20221213T191307Z
LAST-MODIFIED:20221213T191307Z
UID:54074-1673827200-1673913599@fbpe.org
SUMMARY:FBPE office closed: Martin Luther King Jr. Day
DESCRIPTION:
URL:https://fbpe.org/event/fbpe-office-closed-martin-luther-king-jr-day-4/
CATEGORIES:Office Closures
END:VEVENT
BEGIN:VEVENT
DTSTART;VALUE=DATE:20221229
DTEND;VALUE=DATE:20230103
DTSTAMP:20260419T223530
CREATED:20221213T191444Z
LAST-MODIFIED:20221213T191444Z
UID:54076-1672272000-1672703999@fbpe.org
SUMMARY:FBPE office closed: New Years
DESCRIPTION:
URL:https://fbpe.org/event/fbpe-office-closed-new-years-2/
CATEGORIES:Office Closures
END:VEVENT
BEGIN:VEVENT
DTSTART;VALUE=DATE:20221223
DTEND;VALUE=DATE:20221227
DTSTAMP:20260419T223530
CREATED:20211213T194909Z
LAST-MODIFIED:20211213T194909Z
UID:52352-1671753600-1672099199@fbpe.org
SUMMARY:FBPE office closed: Christmas
DESCRIPTION:
URL:https://fbpe.org/event/fbpe-office-closed-christmas-2/
CATEGORIES:Office Closures
END:VEVENT
BEGIN:VEVENT
DTSTART;VALUE=DATE:20221124
DTEND;VALUE=DATE:20221126
DTSTAMP:20260419T223530
CREATED:20211213T194836Z
LAST-MODIFIED:20211213T194836Z
UID:52350-1669248000-1669420799@fbpe.org
SUMMARY:FBPE office closed: Thanksgiving
DESCRIPTION:
URL:https://fbpe.org/event/fbpe-office-closed-thanksgiving-2/
CATEGORIES:Office Closures
END:VEVENT
BEGIN:VEVENT
DTSTART;VALUE=DATE:20221111
DTEND;VALUE=DATE:20221112
DTSTAMP:20260419T223530
CREATED:20211213T194805Z
LAST-MODIFIED:20211213T194805Z
UID:52348-1668124800-1668211199@fbpe.org
SUMMARY:FBPE office closed: Veterans Day
DESCRIPTION:
URL:https://fbpe.org/event/fbpe-office-closed-veterans-day-3/
CATEGORIES:Office Closures
END:VEVENT
BEGIN:VEVENT
DTSTART;VALUE=DATE:20220905
DTEND;VALUE=DATE:20220906
DTSTAMP:20260419T223530
CREATED:20211213T194725Z
LAST-MODIFIED:20211213T194725Z
UID:52346-1662336000-1662422399@fbpe.org
SUMMARY:FBPE office closed: Labor Day
DESCRIPTION:
URL:https://fbpe.org/event/fbpe-office-closed-labor-day-2/
CATEGORIES:Office Closures
END:VEVENT
BEGIN:VEVENT
DTSTART;VALUE=DATE:20220704
DTEND;VALUE=DATE:20220705
DTSTAMP:20260419T223530
CREATED:20211213T194658Z
LAST-MODIFIED:20211213T194658Z
UID:52344-1656892800-1656979199@fbpe.org
SUMMARY:FBPE office closed: Independence Day
DESCRIPTION:
URL:https://fbpe.org/event/fbpe-office-closed-independence-day-2/
CATEGORIES:Office Closures
END:VEVENT
BEGIN:VEVENT
DTSTART;VALUE=DATE:20220530
DTEND;VALUE=DATE:20220531
DTSTAMP:20260419T223530
CREATED:20211213T194518Z
LAST-MODIFIED:20211213T195000Z
UID:52342-1653868800-1653955199@fbpe.org
SUMMARY:FBPE office closed: Memorial Day
DESCRIPTION:
URL:https://fbpe.org/event/fbpe-office-closed-memorial-day-2/
CATEGORIES:Office Closures
END:VEVENT
BEGIN:VEVENT
DTSTART;VALUE=DATE:20220117
DTEND;VALUE=DATE:20220118
DTSTAMP:20260419T223530
CREATED:20211213T194330Z
LAST-MODIFIED:20211213T194330Z
UID:52340-1642377600-1642463999@fbpe.org
SUMMARY:FBPE office closed: Martin Luther King Jr. Day
DESCRIPTION:
URL:https://fbpe.org/event/fbpe-office-closed-martin-luther-king-jr-day-3/
CATEGORIES:Office Closures
END:VEVENT
BEGIN:VEVENT
DTSTART;VALUE=DATE:20211230
DTEND;VALUE=DATE:20220101
DTSTAMP:20260419T223530
CREATED:20211213T194240Z
LAST-MODIFIED:20211213T194602Z
UID:52338-1640822400-1640995199@fbpe.org
SUMMARY:FBPE office closed: New Years
DESCRIPTION:
URL:https://fbpe.org/event/fbpe-office-closed-new-years/
CATEGORIES:Office Closures
END:VEVENT
BEGIN:VEVENT
DTSTART;VALUE=DATE:20211224
DTEND;VALUE=DATE:20211228
DTSTAMP:20260419T223530
CREATED:20211213T194059Z
LAST-MODIFIED:20211213T194540Z
UID:52336-1640304000-1640649599@fbpe.org
SUMMARY:FBPE office closed: Christmas
DESCRIPTION:
URL:https://fbpe.org/event/fbpe-office-closed-christmas-2021/
CATEGORIES:Office Closures
END:VEVENT
BEGIN:VEVENT
DTSTART;TZID=America/New_York:20210118T080000
DTEND;TZID=America/New_York:20210118T170000
DTSTAMP:20260419T223530
CREATED:20191218T210827Z
LAST-MODIFIED:20191218T210827Z
UID:48993-1610956800-1610989200@fbpe.org
SUMMARY:FBPE Office Closed - Martin Luther King Jr. Day
DESCRIPTION:The FBPE office will be closed Monday\, Jan. 18\, 2021\, in observance of Martin Luther King Jr. Day. The office will resume regular office hours on Tuesday\, Jan. 19\, 2021.
URL:https://fbpe.org/event/fbpe-office-closed-martin-luther-king-jr-day-2/
LOCATION:FBPE\, 2400 Mahan Drive\, Tallahassee\, FL\, 32308\, United States
CATEGORIES:Office Closures
END:VEVENT
BEGIN:VEVENT
DTSTART;TZID=America/New_York:20201231T080000
DTEND;TZID=America/New_York:20210101T170000
DTSTAMP:20260419T223530
CREATED:20191218T210715Z
LAST-MODIFIED:20191218T210715Z
UID:48991-1609401600-1609520400@fbpe.org
SUMMARY:FBPE Office Closed - New Year's Day
DESCRIPTION:The FBPE office will be closed Thursday and Friday\, Dec. 31\, 2020\, and Jan. 1\, 2021\, in observance of New Year’s Day. The office will resume regular office hours on Monday\, Jan. 4\, 2021.
URL:https://fbpe.org/event/fbpe-office-closed-new-years-day/
LOCATION:FBPE\, 2400 Mahan Drive\, Tallahassee\, FL\, 32308\, United States
CATEGORIES:Office Closures
END:VEVENT
BEGIN:VEVENT
DTSTART;TZID=America/New_York:20201224T080000
DTEND;TZID=America/New_York:20201225T170000
DTSTAMP:20260419T223530
CREATED:20191218T204808Z
LAST-MODIFIED:20191218T210519Z
UID:48989-1608796800-1608915600@fbpe.org
SUMMARY:FBPE Office Closed - Christmas
DESCRIPTION:The FBPE office will be closed Thursday and Friday\, Dec. 24 and 25\, 2020\, in observance of Christmas. The office will resume regular business hours on Monday\, Dec. 28\, 2020.
URL:https://fbpe.org/event/fbpe-office-closed-christmas/
LOCATION:FBPE\, 2400 Mahan Drive\, Tallahassee\, FL\, 32308\, United States
CATEGORIES:Office Closures
END:VEVENT
BEGIN:VEVENT
DTSTART;TZID=America/New_York:20201126T080000
DTEND;TZID=America/New_York:20201127T170000
DTSTAMP:20260419T223530
CREATED:20191218T204639Z
LAST-MODIFIED:20191218T210450Z
UID:48987-1606377600-1606496400@fbpe.org
SUMMARY:FBPE Office Closed - Thanksgiving
DESCRIPTION:The FBPE office will be closed Thursday and Friday\, Nov. 26 and 27\, 2020\, in observance of Thanksgiving. The office will resume regular business hours on Monday\, Nov. 30\, 2020.
URL:https://fbpe.org/event/fbpe-office-closed-thanksgiving/
LOCATION:FBPE\, 2400 Mahan Drive\, Tallahassee\, FL\, 32308\, United States
CATEGORIES:Office Closures
END:VEVENT
BEGIN:VEVENT
DTSTART;TZID=America/New_York:20201111T080000
DTEND;TZID=America/New_York:20201111T170000
DTSTAMP:20260419T223530
CREATED:20191218T204430Z
LAST-MODIFIED:20191218T204430Z
UID:48984-1605081600-1605114000@fbpe.org
SUMMARY:FBPE Office Closed - Veterans Day
DESCRIPTION:The FBPE office will be closed Wednesday\, Nov. 11\, 2020\, in observance of Veterans Day. Regular hours will resume on Thursday\, Nov. 12\, 2020.
URL:https://fbpe.org/event/fbpe-office-closed-veterans-day-2/
LOCATION:FBPE\, 2400 Mahan Drive\, Tallahassee\, FL\, 32308\, United States
CATEGORIES:Office Closures
END:VEVENT
BEGIN:VEVENT
DTSTART;TZID=America/New_York:20200907T080000
DTEND;TZID=America/New_York:20200907T170000
DTSTAMP:20260419T223530
CREATED:20191218T204318Z
LAST-MODIFIED:20191218T204318Z
UID:48982-1599465600-1599498000@fbpe.org
SUMMARY:FBPE Office Closed - Labor Day
DESCRIPTION:The FBPE office will be closed Monday\, Sept. 7\, 2020\, in observance of Labor Day. Regular hours will resume on Tuesday\, Sept. 8\, 2020.
URL:https://fbpe.org/event/fbpe-office-closed-labor-day/
LOCATION:FBPE\, 2400 Mahan Drive\, Tallahassee\, FL\, 32308\, United States
CATEGORIES:Office Closures
END:VEVENT
BEGIN:VEVENT
DTSTART;TZID=America/New_York:20200703T080000
DTEND;TZID=America/New_York:20200703T170000
DTSTAMP:20260419T223530
CREATED:20191218T204214Z
LAST-MODIFIED:20191218T204214Z
UID:48980-1593763200-1593795600@fbpe.org
SUMMARY:FBPE Office Closed - Independence Day
DESCRIPTION:The FBPE office will be closed Friday\, July 3\, 2020\, in observance of Independence Day. Regular hours will resume on Monday\, July 6\, 2020.
URL:https://fbpe.org/event/fbpe-office-closed-independence-day/
LOCATION:FBPE\, 2400 Mahan Drive\, Tallahassee\, FL\, 32308\, United States
CATEGORIES:Office Closures
END:VEVENT
BEGIN:VEVENT
DTSTART;TZID=America/New_York:20200525T080000
DTEND;TZID=America/New_York:20200525T170000
DTSTAMP:20260419T223530
CREATED:20191218T203947Z
LAST-MODIFIED:20191218T203947Z
UID:48978-1590393600-1590426000@fbpe.org
SUMMARY:FBPE Office Closed - Memorial Day
DESCRIPTION:The FBPE office will be closed Monday\, May 25\, 2020\, in observance of Memorial Day. Regular hours will resume on Tuesday\, May 26\, 2020.
URL:https://fbpe.org/event/fbpe-office-closed-memorial-day/
CATEGORIES:Office Closures
END:VEVENT
END:VCALENDAR