BEGIN:VCALENDAR
VERSION:2.0
PRODID:-//Florida Board of Professional Engineers - ECPv6.15.20//NONSGML v1.0//EN
CALSCALE:GREGORIAN
METHOD:PUBLISH
X-ORIGINAL-URL:https://fbpe.org
X-WR-CALDESC:Events for Florida Board of Professional Engineers
REFRESH-INTERVAL;VALUE=DURATION:PT1H
X-Robots-Tag:noindex
X-PUBLISHED-TTL:PT1H
BEGIN:VTIMEZONE
TZID:America/New_York
BEGIN:DAYLIGHT
TZOFFSETFROM:-0500
TZOFFSETTO:-0400
TZNAME:EDT
DTSTART:20170312T070000
END:DAYLIGHT
BEGIN:STANDARD
TZOFFSETFROM:-0400
TZOFFSETTO:-0500
TZNAME:EST
DTSTART:20171105T060000
END:STANDARD
BEGIN:DAYLIGHT
TZOFFSETFROM:-0500
TZOFFSETTO:-0400
TZNAME:EDT
DTSTART:20180311T070000
END:DAYLIGHT
BEGIN:STANDARD
TZOFFSETFROM:-0400
TZOFFSETTO:-0500
TZNAME:EST
DTSTART:20181104T060000
END:STANDARD
BEGIN:DAYLIGHT
TZOFFSETFROM:-0500
TZOFFSETTO:-0400
TZNAME:EDT
DTSTART:20190310T070000
END:DAYLIGHT
BEGIN:STANDARD
TZOFFSETFROM:-0400
TZOFFSETTO:-0500
TZNAME:EST
DTSTART:20191103T060000
END:STANDARD
BEGIN:DAYLIGHT
TZOFFSETFROM:-0500
TZOFFSETTO:-0400
TZNAME:EDT
DTSTART:20200308T070000
END:DAYLIGHT
BEGIN:STANDARD
TZOFFSETFROM:-0400
TZOFFSETTO:-0500
TZNAME:EST
DTSTART:20201101T060000
END:STANDARD
END:VTIMEZONE
BEGIN:VEVENT
DTSTART;TZID=America/New_York:20181116T100000
DTEND;TZID=America/New_York:20181116T100000
DTSTAMP:20260420T150137
CREATED:20171018T200607Z
LAST-MODIFIED:20171018T200607Z
UID:41833-1542362400-1542362400@fbpe.org
SUMMARY:FBPE Ratification Conference Call
DESCRIPTION:
URL:https://fbpe.org/event/fbpe-ratification-conference-call-16/
LOCATION:FBPE\, 2400 Mahan Drive\, Tallahassee\, FL\, 32308\, United States
CATEGORIES:FBPE
END:VEVENT
BEGIN:VEVENT
DTSTART;TZID=America/New_York:20181119T100000
DTEND;TZID=America/New_York:20181119T100000
DTSTAMP:20260420T150137
CREATED:20181108T133825Z
LAST-MODIFIED:20181108T133825Z
UID:45569-1542621600-1542621600@fbpe.org
SUMMARY:FBPE Nominations Committee Conference Call
DESCRIPTION:
URL:https://fbpe.org/event/fbpe-nominations-committee-conference-call/
LOCATION:FBPE\, 2400 Mahan Drive\, Tallahassee\, FL\, 32308\, United States
CATEGORIES:FBPE
END:VEVENT
BEGIN:VEVENT
DTSTART;TZID=America/New_York:20181206T083000
DTEND;TZID=America/New_York:20181206T083000
DTSTAMP:20260420T150137
CREATED:20171018T193828Z
LAST-MODIFIED:20181128T135044Z
UID:41793-1544085000-1544085000@fbpe.org
SUMMARY:FBPE Board Meeting
DESCRIPTION:
URL:https://fbpe.org/event/fbpe-board-meeting-28/
LOCATION:FL
CATEGORIES:FBPE
END:VEVENT
BEGIN:VEVENT
DTSTART;TZID=America/New_York:20190116T083000
DTEND;TZID=America/New_York:20190116T083000
DTSTAMP:20260420T150137
CREATED:20181101T165908Z
LAST-MODIFIED:20181212T175406Z
UID:45316-1547627400-1547627400@fbpe.org
SUMMARY:FBPE Probable Cause Panel Meeting
DESCRIPTION:
URL:https://fbpe.org/event/fbpe-probable-cause-panel-meeting-16/
LOCATION:FBPE\, 2400 Mahan Drive\, Tallahassee\, FL\, 32308\, United States
CATEGORIES:FBPE
END:VEVENT
BEGIN:VEVENT
DTSTART;TZID=America/New_York:20190116T130000
DTEND;TZID=America/New_York:20190116T130000
DTSTAMP:20260420T150137
CREATED:20181101T170127Z
LAST-MODIFIED:20181212T175505Z
UID:45318-1547643600-1547643600@fbpe.org
SUMMARY:FBPE Experience Committee Application Review
DESCRIPTION:
URL:https://fbpe.org/event/fbpe-experience-committee-application-review-7/
LOCATION:FBPE\, 2400 Mahan Drive\, Tallahassee\, FL\, 32308\, United States
CATEGORIES:FBPE
END:VEVENT
BEGIN:VEVENT
DTSTART;TZID=America/New_York:20190116T150000
DTEND;TZID=America/New_York:20190116T150000
DTSTAMP:20260420T150137
CREATED:20181101T170943Z
LAST-MODIFIED:20181212T175609Z
UID:45341-1547650800-1547650800@fbpe.org
SUMMARY:FBPE Education Committee Application Review
DESCRIPTION:
URL:https://fbpe.org/event/fbpe-education-committee-application-review-13/
LOCATION:FBPE\, 2400 Mahan Drive\, Tallahassee\, FL\, 32308\, United States
CATEGORIES:FBPE
END:VEVENT
BEGIN:VEVENT
DTSTART;TZID=America/New_York:20190125T100000
DTEND;TZID=America/New_York:20190125T100000
DTSTAMP:20260420T150137
CREATED:20181101T171355Z
LAST-MODIFIED:20181212T180006Z
UID:45354-1548410400-1548410400@fbpe.org
SUMMARY:FBPE Ratification Conference Call
DESCRIPTION:
URL:https://fbpe.org/event/fbpe-ratification-conference-call-18/
LOCATION:FBPE\, 2400 Mahan Drive\, Tallahassee\, FL\, 32308\, United States
CATEGORIES:FBPE
END:VEVENT
BEGIN:VEVENT
DTSTART;TZID=America/New_York:20190128T100000
DTEND;TZID=America/New_York:20190128T100000
DTSTAMP:20260420T150137
CREATED:20181212T180120Z
LAST-MODIFIED:20181212T180120Z
UID:46176-1548669600-1548669600@fbpe.org
SUMMARY:FBPE Experience Committee Application Review
DESCRIPTION:
URL:https://fbpe.org/event/fbpe-experience-committee-application-review-13/
LOCATION:FBPE\, 2400 Mahan Drive\, Tallahassee\, FL\, 32308\, United States
CATEGORIES:FBPE
END:VEVENT
BEGIN:VEVENT
DTSTART;TZID=America/New_York:20190131T090000
DTEND;TZID=America/New_York:20190131T160000
DTSTAMP:20260420T150137
CREATED:20190124T163022Z
LAST-MODIFIED:20190124T163022Z
UID:46513-1548925200-1548950400@fbpe.org
SUMMARY:FBPE Meeting
DESCRIPTION:This meeting is to discuss\, debate\, and identify existing regulations that can be targeted for reduction or elimination. No votes will be taken at this meeting. \nValencia College – East Campus\, 701 North Econlockhatchee Trail\, Building 6 – Gymnasium\, Orlando\, Florida 32825.
URL:https://fbpe.org/event/fbpe-meeting/
LOCATION:Valencia College
CATEGORIES:FBPE
END:VEVENT
BEGIN:VEVENT
DTSTART;TZID=America/New_York:20190220T130000
DTEND;TZID=America/New_York:20190220T170000
DTSTAMP:20260420T150137
CREATED:20181101T172246Z
LAST-MODIFIED:20181101T172246Z
UID:45372-1550667600-1550682000@fbpe.org
SUMMARY:FBPE Board Meeting
DESCRIPTION:
URL:https://fbpe.org/event/fbpe-board-meeting-29/
LOCATION:FL
CATEGORIES:FBPE
END:VEVENT
BEGIN:VEVENT
DTSTART;TZID=America/New_York:20190221T083000
DTEND;TZID=America/New_York:20190221T170000
DTSTAMP:20260420T150137
CREATED:20181101T172320Z
LAST-MODIFIED:20181101T172320Z
UID:45375-1550737800-1550768400@fbpe.org
SUMMARY:FBPE Board Meeting
DESCRIPTION:
URL:https://fbpe.org/event/fbpe-board-meeting-30/
LOCATION:FL
CATEGORIES:FBPE
END:VEVENT
BEGIN:VEVENT
DTSTART;TZID=America/New_York:20190313T083000
DTEND;TZID=America/New_York:20190313T083000
DTSTAMP:20260420T150137
CREATED:20181101T170617Z
LAST-MODIFIED:20181101T170617Z
UID:45331-1552465800-1552465800@fbpe.org
SUMMARY:FBPE Probable Cause Panel Meeting
DESCRIPTION:
URL:https://fbpe.org/event/fbpe-probable-cause-panel-meeting-17/
LOCATION:FBPE\, 2400 Mahan Drive\, Tallahassee\, FL\, 32308\, United States
CATEGORIES:FBPE
END:VEVENT
BEGIN:VEVENT
DTSTART;TZID=America/New_York:20190313T130000
DTEND;TZID=America/New_York:20190313T130000
DTSTAMP:20260420T150137
CREATED:20181101T170220Z
LAST-MODIFIED:20181101T170220Z
UID:45320-1552482000-1552482000@fbpe.org
SUMMARY:FBPE Experience Committee Application Review
DESCRIPTION:
URL:https://fbpe.org/event/fbpe-experience-committee-application-review-8/
LOCATION:FBPE\, 2400 Mahan Drive\, Tallahassee\, FL\, 32308\, United States
CATEGORIES:FBPE
END:VEVENT
BEGIN:VEVENT
DTSTART;TZID=America/New_York:20190313T150000
DTEND;TZID=America/New_York:20190313T150000
DTSTAMP:20260420T150137
CREATED:20181101T171018Z
LAST-MODIFIED:20181101T171018Z
UID:45343-1552489200-1552489200@fbpe.org
SUMMARY:FBPE Education Committee Application Review
DESCRIPTION:
URL:https://fbpe.org/event/fbpe-education-committee-application-review-14/
LOCATION:FBPE\, 2400 Mahan Drive\, Tallahassee\, FL\, 32308\, United States
CATEGORIES:FBPE
END:VEVENT
BEGIN:VEVENT
DTSTART;TZID=America/New_York:20190319T100000
DTEND;TZID=America/New_York:20190319T100000
DTSTAMP:20260420T150137
CREATED:20181101T171706Z
LAST-MODIFIED:20190313T121433Z
UID:45362-1552989600-1552989600@fbpe.org
SUMMARY:FBPE Rules Committee Meeting (via conference call)
DESCRIPTION:
URL:https://fbpe.org/event/fbpe-ratification-conference-call-22/
LOCATION:FBPE\, 2400 Mahan Drive\, Tallahassee\, FL\, 32308\, United States
CATEGORIES:FBPE
END:VEVENT
BEGIN:VEVENT
DTSTART;TZID=America/New_York:20190320T100000
DTEND;TZID=America/New_York:20190320T100000
DTSTAMP:20260420T150137
CREATED:20190313T121524Z
LAST-MODIFIED:20190313T121524Z
UID:46845-1553076000-1553076000@fbpe.org
SUMMARY:FBPE Fire Protection Rules Committee Meeting (via conference call)
DESCRIPTION:
URL:https://fbpe.org/event/fbpe-fire-protection-rules-committee-meeting-via-conference-call/
LOCATION:FBPE\, 2400 Mahan Drive\, Tallahassee\, FL\, 32308\, United States
CATEGORIES:FBPE
END:VEVENT
BEGIN:VEVENT
DTSTART;TZID=America/New_York:20190325T100000
DTEND;TZID=America/New_York:20190325T100000
DTSTAMP:20260420T150137
CREATED:20181101T171436Z
LAST-MODIFIED:20190313T121625Z
UID:45356-1553508000-1553508000@fbpe.org
SUMMARY:FBPE Ratification Conference Call
DESCRIPTION:
URL:https://fbpe.org/event/fbpe-ratification-conference-call-19/
LOCATION:FBPE\, 2400 Mahan Drive\, Tallahassee\, FL\, 32308\, United States
CATEGORIES:FBPE
END:VEVENT
BEGIN:VEVENT
DTSTART;TZID=America/New_York:20190410T130000
DTEND;TZID=America/New_York:20190410T170000
DTSTAMP:20260420T150137
CREATED:20181101T172355Z
LAST-MODIFIED:20181101T172355Z
UID:45377-1554901200-1554915600@fbpe.org
SUMMARY:FBPE Board Meeting
DESCRIPTION:
URL:https://fbpe.org/event/fbpe-board-meeting-31/
LOCATION:FL
CATEGORIES:FBPE
END:VEVENT
BEGIN:VEVENT
DTSTART;TZID=America/New_York:20190411T083000
DTEND;TZID=America/New_York:20190411T120000
DTSTAMP:20260420T150137
CREATED:20181101T172423Z
LAST-MODIFIED:20181101T172423Z
UID:45379-1554971400-1554984000@fbpe.org
SUMMARY:FBPE Board Meeting
DESCRIPTION:
URL:https://fbpe.org/event/fbpe-board-meeting-32/
LOCATION:FL
CATEGORIES:FBPE
END:VEVENT
BEGIN:VEVENT
DTSTART;TZID=America/New_York:20190507T083000
DTEND;TZID=America/New_York:20190507T083000
DTSTAMP:20260420T150137
CREATED:20181101T170652Z
LAST-MODIFIED:20190325T181319Z
UID:45333-1557217800-1557217800@fbpe.org
SUMMARY:FBPE Probable Cause Panel Meeting
DESCRIPTION:
URL:https://fbpe.org/event/fbpe-probable-cause-panel-meeting-18/
LOCATION:FBPE\, 2400 Mahan Drive\, Tallahassee\, FL\, 32308\, United States
CATEGORIES:FBPE
END:VEVENT
BEGIN:VEVENT
DTSTART;TZID=America/New_York:20190507T110000
DTEND;TZID=America/New_York:20190507T120000
DTSTAMP:20260420T150137
CREATED:20190417T154204Z
LAST-MODIFIED:20190417T154204Z
UID:47286-1557226800-1557230400@fbpe.org
SUMMARY:FBPE Fire Protection Rules Committee Conference Call
DESCRIPTION:
URL:https://fbpe.org/event/fbpe-fire-protection-rules-committee-conference-call-2/
LOCATION:FBPE\, 2400 Mahan Drive\, Tallahassee\, FL\, 32308\, United States
CATEGORIES:FBPE
END:VEVENT
BEGIN:VEVENT
DTSTART;TZID=America/New_York:20190507T130000
DTEND;TZID=America/New_York:20190507T130000
DTSTAMP:20260420T150137
CREATED:20181101T170306Z
LAST-MODIFIED:20190325T181250Z
UID:45322-1557234000-1557234000@fbpe.org
SUMMARY:FBPE Experience Committee Application Review
DESCRIPTION:
URL:https://fbpe.org/event/fbpe-experience-committee-application-review-9/
LOCATION:FBPE\, 2400 Mahan Drive\, Tallahassee\, FL\, 32308\, United States
CATEGORIES:FBPE
END:VEVENT
BEGIN:VEVENT
DTSTART;TZID=America/New_York:20190507T150000
DTEND;TZID=America/New_York:20190507T150000
DTSTAMP:20260420T150137
CREATED:20181101T171053Z
LAST-MODIFIED:20190325T181218Z
UID:45345-1557241200-1557241200@fbpe.org
SUMMARY:FBPE Education Committee Application Review
DESCRIPTION:
URL:https://fbpe.org/event/fbpe-education-committee-application-review-15/
LOCATION:FBPE\, 2400 Mahan Drive\, Tallahassee\, FL\, 32308\, United States
CATEGORIES:FBPE
END:VEVENT
BEGIN:VEVENT
DTSTART;TZID=America/New_York:20190520T100000
DTEND;TZID=America/New_York:20190520T100000
DTSTAMP:20260420T150137
CREATED:20181101T171519Z
LAST-MODIFIED:20181101T171519Z
UID:45358-1558346400-1558346400@fbpe.org
SUMMARY:FBPE Ratification Conference Call
DESCRIPTION:
URL:https://fbpe.org/event/fbpe-ratification-conference-call-20/
LOCATION:FBPE\, 2400 Mahan Drive\, Tallahassee\, FL\, 32308\, United States
CATEGORIES:FBPE
END:VEVENT
BEGIN:VEVENT
DTSTART;TZID=America/New_York:20190605T130000
DTEND;TZID=America/New_York:20190605T170000
DTSTAMP:20260420T150137
CREATED:20181101T173124Z
LAST-MODIFIED:20190426T161708Z
UID:45399-1559739600-1559754000@fbpe.org
SUMMARY:FBPE Board Meeting
DESCRIPTION:
URL:https://fbpe.org/event/fbpe-board-meeting-38/
LOCATION:FL
CATEGORIES:FBPE
END:VEVENT
BEGIN:VEVENT
DTSTART;TZID=America/New_York:20190606T083000
DTEND;TZID=America/New_York:20190606T120000
DTSTAMP:20260420T150137
CREATED:20181101T173155Z
LAST-MODIFIED:20190426T161930Z
UID:45402-1559809800-1559822400@fbpe.org
SUMMARY:FBPE Board Meeting
DESCRIPTION:
URL:https://fbpe.org/event/fbpe-board-meeting-39/
LOCATION:FL
CATEGORIES:FBPE
END:VEVENT
BEGIN:VEVENT
DTSTART;TZID=America/New_York:20190701T100000
DTEND;TZID=America/New_York:20190701T120000
DTSTAMP:20260420T150137
CREATED:20190617T141102Z
LAST-MODIFIED:20190617T141102Z
UID:47478-1561975200-1561982400@fbpe.org
SUMMARY:FBPE Board Conference Call
DESCRIPTION:
URL:https://fbpe.org/event/fbpe-board-conference-call/
LOCATION:FBPE\, 2400 Mahan Drive\, Tallahassee\, FL\, 32308\, United States
CATEGORIES:FBPE
END:VEVENT
BEGIN:VEVENT
DTSTART;TZID=America/New_York:20190717T083000
DTEND;TZID=America/New_York:20190717T083000
DTSTAMP:20260420T150137
CREATED:20181101T170728Z
LAST-MODIFIED:20181101T170728Z
UID:45335-1563352200-1563352200@fbpe.org
SUMMARY:FBPE Probable Cause Panel Meeting
DESCRIPTION:
URL:https://fbpe.org/event/fbpe-probable-cause-panel-meeting-19/
LOCATION:FBPE\, 2400 Mahan Drive\, Tallahassee\, FL\, 32308\, United States
CATEGORIES:FBPE
END:VEVENT
BEGIN:VEVENT
DTSTART;TZID=America/New_York:20190717T130000
DTEND;TZID=America/New_York:20190717T130000
DTSTAMP:20260420T150137
CREATED:20181101T170407Z
LAST-MODIFIED:20181101T170407Z
UID:45324-1563368400-1563368400@fbpe.org
SUMMARY:FBPE Experience Committee Application Review
DESCRIPTION:
URL:https://fbpe.org/event/fbpe-experience-committee-application-review-10/
LOCATION:FBPE\, 2400 Mahan Drive\, Tallahassee\, FL\, 32308\, United States
CATEGORIES:FBPE
END:VEVENT
BEGIN:VEVENT
DTSTART;TZID=America/New_York:20190717T150000
DTEND;TZID=America/New_York:20190717T150000
DTSTAMP:20260420T150137
CREATED:20181101T171134Z
LAST-MODIFIED:20181101T171134Z
UID:45348-1563375600-1563375600@fbpe.org
SUMMARY:FBPE Education Committee Application Review
DESCRIPTION:
URL:https://fbpe.org/event/fbpe-education-committee-application-review-16/
LOCATION:FBPE\, 2400 Mahan Drive\, Tallahassee\, FL\, 32308\, United States
CATEGORIES:FBPE
END:VEVENT
END:VCALENDAR