BEGIN:VCALENDAR
VERSION:2.0
PRODID:-//Florida Board of Professional Engineers - ECPv6.15.20//NONSGML v1.0//EN
CALSCALE:GREGORIAN
METHOD:PUBLISH
X-WR-CALNAME:Florida Board of Professional Engineers
X-ORIGINAL-URL:https://fbpe.org
X-WR-CALDESC:Events for Florida Board of Professional Engineers
REFRESH-INTERVAL;VALUE=DURATION:PT1H
X-Robots-Tag:noindex
X-PUBLISHED-TTL:PT1H
BEGIN:VTIMEZONE
TZID:America/New_York
BEGIN:DAYLIGHT
TZOFFSETFROM:-0500
TZOFFSETTO:-0400
TZNAME:EDT
DTSTART:20190310T070000
END:DAYLIGHT
BEGIN:STANDARD
TZOFFSETFROM:-0400
TZOFFSETTO:-0500
TZNAME:EST
DTSTART:20191103T060000
END:STANDARD
BEGIN:DAYLIGHT
TZOFFSETFROM:-0500
TZOFFSETTO:-0400
TZNAME:EDT
DTSTART:20200308T070000
END:DAYLIGHT
BEGIN:STANDARD
TZOFFSETFROM:-0400
TZOFFSETTO:-0500
TZNAME:EST
DTSTART:20201101T060000
END:STANDARD
BEGIN:DAYLIGHT
TZOFFSETFROM:-0500
TZOFFSETTO:-0400
TZNAME:EDT
DTSTART:20210314T070000
END:DAYLIGHT
BEGIN:STANDARD
TZOFFSETFROM:-0400
TZOFFSETTO:-0500
TZNAME:EST
DTSTART:20211107T060000
END:STANDARD
END:VTIMEZONE
BEGIN:VEVENT
DTSTART;TZID=America/New_York:20201110T083000
DTEND;TZID=America/New_York:20201110T120000
DTSTAMP:20260420T155353
CREATED:20191117T164834Z
LAST-MODIFIED:20201012T123117Z
UID:48769-1604997000-1605009600@fbpe.org
SUMMARY:FBPE Probable Cause Panel Meeting (via zoom)
DESCRIPTION:
URL:https://fbpe.org/event/fbpe-probable-cause-panel-meeting-27/
LOCATION:FL
CATEGORIES:FBPE
END:VEVENT
BEGIN:VEVENT
DTSTART;TZID=America/New_York:20201110T130000
DTEND;TZID=America/New_York:20201110T130000
DTSTAMP:20260420T155353
CREATED:20191117T165626Z
LAST-MODIFIED:20201012T122805Z
UID:48783-1605013200-1605013200@fbpe.org
SUMMARY:FBPE Board Meeting(via zoom)
DESCRIPTION:
URL:https://fbpe.org/event/fbpe-application-review-9/
LOCATION:FBPE\, 2400 Mahan Drive\, Tallahassee\, FL\, 32308\, United States
CATEGORIES:FBPE
END:VEVENT
END:VCALENDAR