BEGIN:VCALENDAR
VERSION:2.0
PRODID:-//Florida Board of Professional Engineers - ECPv6.15.20//NONSGML v1.0//EN
CALSCALE:GREGORIAN
METHOD:PUBLISH
X-WR-CALNAME:Florida Board of Professional Engineers
X-ORIGINAL-URL:https://fbpe.org
X-WR-CALDESC:Events for Florida Board of Professional Engineers
REFRESH-INTERVAL;VALUE=DURATION:PT1H
X-Robots-Tag:noindex
X-PUBLISHED-TTL:PT1H
BEGIN:VTIMEZONE
TZID:America/New_York
BEGIN:DAYLIGHT
TZOFFSETFROM:-0500
TZOFFSETTO:-0400
TZNAME:EDT
DTSTART:20170312T070000
END:DAYLIGHT
BEGIN:STANDARD
TZOFFSETFROM:-0400
TZOFFSETTO:-0500
TZNAME:EST
DTSTART:20171105T060000
END:STANDARD
BEGIN:DAYLIGHT
TZOFFSETFROM:-0500
TZOFFSETTO:-0400
TZNAME:EDT
DTSTART:20180311T070000
END:DAYLIGHT
BEGIN:STANDARD
TZOFFSETFROM:-0400
TZOFFSETTO:-0500
TZNAME:EST
DTSTART:20181104T060000
END:STANDARD
BEGIN:DAYLIGHT
TZOFFSETFROM:-0500
TZOFFSETTO:-0400
TZNAME:EDT
DTSTART:20190310T070000
END:DAYLIGHT
BEGIN:STANDARD
TZOFFSETFROM:-0400
TZOFFSETTO:-0500
TZNAME:EST
DTSTART:20191103T060000
END:STANDARD
END:VTIMEZONE
BEGIN:VEVENT
DTSTART;TZID=America/New_York:20180620T083000
DTEND;TZID=America/New_York:20180620T083000
DTSTAMP:20260419T111908
CREATED:20171018T195139Z
LAST-MODIFIED:20171018T195139Z
UID:41798-1529483400-1529483400@fbpe.org
SUMMARY:FEMC Board Meeting
DESCRIPTION:
URL:https://fbpe.org/event/femc-board-meeting-10/
LOCATION:FL
CATEGORIES:FEMC
END:VEVENT
BEGIN:VEVENT
DTSTART;TZID=America/New_York:20180620T100000
DTEND;TZID=America/New_York:20180620T100000
DTSTAMP:20260419T111908
CREATED:20171018T200913Z
LAST-MODIFIED:20171018T200913Z
UID:41837-1529488800-1529488800@fbpe.org
SUMMARY:FBPE/FEMC Board Member Training
DESCRIPTION:
URL:https://fbpe.org/event/fbpefemc-board-member-training/
LOCATION:FL
CATEGORIES:FBPE,FEMC
END:VEVENT
BEGIN:VEVENT
DTSTART;TZID=America/New_York:20180620T130000
DTEND;TZID=America/New_York:20180620T130000
DTSTAMP:20260419T111908
CREATED:20171018T193404Z
LAST-MODIFIED:20171018T193404Z
UID:41781-1529499600-1529499600@fbpe.org
SUMMARY:FBPE Board Meeting
DESCRIPTION:
URL:https://fbpe.org/event/fbpe-board-meeting-22/
LOCATION:FL
CATEGORIES:FBPE
END:VEVENT
END:VCALENDAR