BEGIN:VCALENDAR
VERSION:2.0
PRODID:-//Florida Board of Professional Engineers - ECPv6.15.20//NONSGML v1.0//EN
CALSCALE:GREGORIAN
METHOD:PUBLISH
X-WR-CALNAME:Florida Board of Professional Engineers
X-ORIGINAL-URL:https://fbpe.org
X-WR-CALDESC:Events for Florida Board of Professional Engineers
REFRESH-INTERVAL;VALUE=DURATION:PT1H
X-Robots-Tag:noindex
X-PUBLISHED-TTL:PT1H
BEGIN:VTIMEZONE
TZID:America/New_York
BEGIN:DAYLIGHT
TZOFFSETFROM:-0500
TZOFFSETTO:-0400
TZNAME:EDT
DTSTART:20150308T070000
END:DAYLIGHT
BEGIN:STANDARD
TZOFFSETFROM:-0400
TZOFFSETTO:-0500
TZNAME:EST
DTSTART:20151101T060000
END:STANDARD
BEGIN:DAYLIGHT
TZOFFSETFROM:-0500
TZOFFSETTO:-0400
TZNAME:EDT
DTSTART:20160313T070000
END:DAYLIGHT
BEGIN:STANDARD
TZOFFSETFROM:-0400
TZOFFSETTO:-0500
TZNAME:EST
DTSTART:20161106T060000
END:STANDARD
BEGIN:DAYLIGHT
TZOFFSETFROM:-0500
TZOFFSETTO:-0400
TZNAME:EDT
DTSTART:20170312T070000
END:DAYLIGHT
BEGIN:STANDARD
TZOFFSETFROM:-0400
TZOFFSETTO:-0500
TZNAME:EST
DTSTART:20171105T060000
END:STANDARD
END:VTIMEZONE
BEGIN:VTIMEZONE
TZID:UTC
BEGIN:STANDARD
TZOFFSETFROM:+0000
TZOFFSETTO:+0000
TZNAME:UTC
DTSTART:20150101T000000
END:STANDARD
END:VTIMEZONE
BEGIN:VEVENT
DTSTART;TZID=America/New_York:20161012T083000
DTEND;TZID=America/New_York:20161012T093000
DTSTAMP:20260423T070527
CREATED:20160926T123250Z
LAST-MODIFIED:20161006T194300Z
UID:39220-1476261000-1476264600@fbpe.org
SUMMARY:* CANCELED * - FBPE Structural Rules Committee Meeting
DESCRIPTION:Based on the information we are receiving from the National Weather Service and also the fact that Gov. Rick Scott has declared a state emergency in Florida due to Hurricane Matthew\, we are canceling the FBPE Structural Rules Committee Meeting scheduled for 8:30 am on Wednesday\, October 12\, 2016. \nEven though the storm may not directly hit Orlando\, the impact on travel and the ability of first responders to adequately perform their duties will be affected by having more traffic on the highways.  In addition\, the Orlando area will almost certainly serve as a sheltering location for those displaced by the storm. \nWe will plan to take care of any critical matters by telephone in the weeks following the hurricane\, either during application review or the ratification call in November\, or via a schedule telephone conference. \nIf you have any questions or concerns\, please call the FBPE office at (850) 521-0500 or send an email to board@fbpe.org.
URL:https://fbpe.org/event/fbpe-structural-rules-committee-meeting-2/
LOCATION:Crowne Plaza Orlando Universal\, 7800 Universal Blvd.\, Orlando\, FL\, 32819\, United States
CATEGORIES:FBPE
END:VEVENT
BEGIN:VEVENT
DTSTART;TZID=UTC:20161012T100000
DTEND;TZID=UTC:20161012T170000
DTSTAMP:20260423T070527
CREATED:20160422T212644Z
LAST-MODIFIED:20161006T194426Z
UID:36788-1476266400-1476291600@fbpe.org
SUMMARY:* CANCELED * - FEMC Board Meeting
DESCRIPTION:Based on the information we are receiving from the National Weather Service and also the fact that Gov. Rick Scott has declared a state emergency in Florida due to Hurricane Matthew\, we are canceling the FEMC Board Meeting scheduled for 10:00 am on Wednesday\, October 12\, 2016. \nEven though the storm may not directly hit Orlando\, the impact on travel and the ability of first responders to adequately perform their duties will be affected by having more traffic on the highways.  In addition\, the Orlando area will almost certainly serve as a sheltering location for those displaced by the storm. \nWe will plan to take care of any critical matters by telephone in the weeks following the hurricane\, either during application review or the ratification call in November\, or via a schedule telephone conference. \nIf you have any questions or concerns\, please call the FBPE office at (850) 521-0500 or send an email to board@fbpe.org.
URL:https://fbpe.org/event/femc-board-meeting-2/
LOCATION:FL
CATEGORIES:FEMC
END:VEVENT
BEGIN:VEVENT
DTSTART;TZID=UTC:20161012T130000
DTEND;TZID=UTC:20161012T170000
DTSTAMP:20260423T070527
CREATED:20160422T213027Z
LAST-MODIFIED:20161006T194503Z
UID:36789-1476277200-1476291600@fbpe.org
SUMMARY:* CANCELED * - FBPE Board Meeting
DESCRIPTION:Based on the information we are receiving from the National Weather Service and also the fact that Gov. Rick Scott has declared a state emergency in Florida due to Hurricane Matthew\, we are canceling the FBPE Board Meeting scheduled for 1:00 pm – 5:00 pm on Wednesday\, October 12\, 2016. \nEven though the storm may not directly hit Orlando\, the impact on travel and the ability of first responders to adequately perform their duties will be affected by having more traffic on the highways.  In addition\, the Orlando area will almost certainly serve as a sheltering location for those displaced by the storm. \nWe will plan to take care of any critical matters by telephone in the weeks following the hurricane\, either during application review or the ratification call in November\, or via a schedule telephone conference. \nIf you have any questions or concerns\, please call the FBPE office at (850) 521-0500 or send an email to board@fbpe.org.
URL:https://fbpe.org/event/fbpe-board-meeting-4/
LOCATION:FL
CATEGORIES:FBPE
END:VEVENT
END:VCALENDAR