BEGIN:VCALENDAR
VERSION:2.0
PRODID:-//Florida Board of Professional Engineers - ECPv6.15.20//NONSGML v1.0//EN
CALSCALE:GREGORIAN
METHOD:PUBLISH
X-ORIGINAL-URL:https://fbpe.org
X-WR-CALDESC:Events for Florida Board of Professional Engineers
REFRESH-INTERVAL;VALUE=DURATION:PT1H
X-Robots-Tag:noindex
X-PUBLISHED-TTL:PT1H
BEGIN:VTIMEZONE
TZID:UTC
BEGIN:STANDARD
TZOFFSETFROM:+0000
TZOFFSETTO:+0000
TZNAME:UTC
DTSTART:20150101T000000
END:STANDARD
END:VTIMEZONE
BEGIN:VEVENT
DTSTART;TZID=UTC:20160817T090000
DTEND;TZID=UTC:20160817T110000
DTSTAMP:20260426T002848
CREATED:20160816T185129Z
LAST-MODIFIED:20160816T185129Z
UID:38969-1471424400-1471431600@fbpe.org
SUMMARY:FBPE Rules Committee
DESCRIPTION:Location Crowne Plaza Orlando Universal\, 7800 Universal Blvd\, Orlando\n\n\nContact Rebecca Sammons
URL:https://fbpe.org/event/fbpe-rules-committee/
LOCATION:Orlando
CATEGORIES:FBPE
END:VEVENT
BEGIN:VEVENT
DTSTART;TZID=UTC:20160817T130000
DTEND;TZID=UTC:20160817T170000
DTSTAMP:20260426T002848
CREATED:20160422T211442Z
LAST-MODIFIED:20160422T211442Z
UID:36781-1471438800-1471453200@fbpe.org
SUMMARY:FBPE Board Meeting
DESCRIPTION:Location: Crowne Plaza Orlando Universal\, 7800 Universal Blvd\, Orlando\, Fl 32819\n\n\nContact: Rebecca Sammons
URL:https://fbpe.org/event/fbpe-board-meeting-2/
LOCATION:FL
CATEGORIES:FBPE
END:VEVENT
END:VCALENDAR